BEGIN:VCALENDAR
VERSION:2.0
PRODID:-//ISKCON Nashik - ECPv6.11.2.1//NONSGML v1.0//EN
CALSCALE:GREGORIAN
METHOD:PUBLISH
X-ORIGINAL-URL:https://iskconnasik.com
X-WR-CALDESC:Events for ISKCON Nashik
REFRESH-INTERVAL;VALUE=DURATION:PT1H
X-Robots-Tag:noindex
X-PUBLISHED-TTL:PT1H
BEGIN:VTIMEZONE
TZID:Asia/Kolkata
BEGIN:STANDARD
TZOFFSETFROM:+0530
TZOFFSETTO:+0530
TZNAME:IST
DTSTART:20250101T000000
END:STANDARD
END:VTIMEZONE
BEGIN:VEVENT
DTSTART;TZID=Asia/Kolkata:20250621T000000
DTEND;TZID=Asia/Kolkata:20250621T000000
DTSTAMP:20260425T183429
CREATED:20250501T114940Z
LAST-MODIFIED:20250501T114940Z
UID:599-1750464000-1750464000@iskconnasik.com
SUMMARY:Sri Srivasa Pandita -- Disappearance
DESCRIPTION:
URL:https://iskconnasik.com/event/sri-srivasa-pandita-disappearance/
END:VEVENT
BEGIN:VEVENT
DTSTART;TZID=Asia/Kolkata:20250622T000000
DTEND;TZID=Asia/Kolkata:20250622T000000
DTSTAMP:20260425T183429
CREATED:20250501T114940Z
LAST-MODIFIED:20250501T114940Z
UID:600-1750550400-1750550400@iskconnasik.com
SUMMARY:Fasting for Yogini Ekadasi
DESCRIPTION:
URL:https://iskconnasik.com/event/fasting-for-yogini-ekadasi/
END:VEVENT
BEGIN:VEVENT
DTSTART;TZID=Asia/Kolkata:20250623T000000
DTEND;TZID=Asia/Kolkata:20250623T000000
DTSTAMP:20260425T183429
CREATED:20250501T114940Z
LAST-MODIFIED:20250501T114940Z
UID:601-1750636800-1750636800@iskconnasik.com
SUMMARY:Break fast 05:33 (sunrise) - 10:01 (1/3 of daylight) LT
DESCRIPTION:
URL:https://iskconnasik.com/event/break-fast-0533-sunrise-1001-1-3-of-daylight-lt/
END:VEVENT
BEGIN:VEVENT
DTSTART;TZID=Asia/Kolkata:20250625T000000
DTEND;TZID=Asia/Kolkata:20250625T000000
DTSTAMP:20260425T183429
CREATED:20250501T114940Z
LAST-MODIFIED:20250501T114940Z
UID:602-1750809600-1750809600@iskconnasik.com
SUMMARY:Srila Bhaktivinoda Thakura -- Disappearance
DESCRIPTION:
URL:https://iskconnasik.com/event/srila-bhaktivinoda-thakura-disappearance/
END:VEVENT
BEGIN:VEVENT
DTSTART;TZID=Asia/Kolkata:20250625T000000
DTEND;TZID=Asia/Kolkata:20250625T000000
DTSTAMP:20260425T183429
CREATED:20250501T114955Z
LAST-MODIFIED:20250501T114955Z
UID:603-1750809600-1750809600@iskconnasik.com
SUMMARY:Sri Gadadhara Pandita -- Disappearance
DESCRIPTION:
URL:https://iskconnasik.com/event/sri-gadadhara-pandita-disappearance/
END:VEVENT
BEGIN:VEVENT
DTSTART;TZID=Asia/Kolkata:20250626T000000
DTEND;TZID=Asia/Kolkata:20250626T000000
DTSTAMP:20260425T183429
CREATED:20250501T114955Z
LAST-MODIFIED:20250501T114955Z
UID:604-1750896000-1750896000@iskconnasik.com
SUMMARY:Gundica Marjana
DESCRIPTION:
URL:https://iskconnasik.com/event/gundica-marjana/
END:VEVENT
BEGIN:VEVENT
DTSTART;TZID=Asia/Kolkata:20250627T000000
DTEND;TZID=Asia/Kolkata:20250627T000000
DTSTAMP:20260425T183429
CREATED:20250501T114955Z
LAST-MODIFIED:20250501T114955Z
UID:605-1750982400-1750982400@iskconnasik.com
SUMMARY:Ratha Yatra
DESCRIPTION:
URL:https://iskconnasik.com/event/ratha-yatra/
END:VEVENT
BEGIN:VEVENT
DTSTART;TZID=Asia/Kolkata:20250627T000000
DTEND;TZID=Asia/Kolkata:20250627T000000
DTSTAMP:20260425T183429
CREATED:20250501T114955Z
LAST-MODIFIED:20250501T114955Z
UID:606-1750982400-1750982400@iskconnasik.com
SUMMARY:Sri Svarupa Damodara Gosvami -- Disappearance
DESCRIPTION:
URL:https://iskconnasik.com/event/sri-svarupa-damodara-gosvami-disappearance/
END:VEVENT
BEGIN:VEVENT
DTSTART;TZID=Asia/Kolkata:20250627T000000
DTEND;TZID=Asia/Kolkata:20250627T000000
DTSTAMP:20260425T183429
CREATED:20250501T114955Z
LAST-MODIFIED:20250501T114955Z
UID:607-1750982400-1750982400@iskconnasik.com
SUMMARY:Sri Sivananda Sena -- Disappearance
DESCRIPTION:
URL:https://iskconnasik.com/event/sri-sivananda-sena-disappearance/
END:VEVENT
BEGIN:VEVENT
DTSTART;TZID=Asia/Kolkata:20250701T000000
DTEND;TZID=Asia/Kolkata:20250701T000000
DTSTAMP:20260425T183429
CREATED:20250501T115009Z
LAST-MODIFIED:20250501T115009Z
UID:608-1751328000-1751328000@iskconnasik.com
SUMMARY:Hera Pancami (4 days after Ratha Yatra)
DESCRIPTION:
URL:https://iskconnasik.com/event/hera-pancami-4-days-after-ratha-yatra/
END:VEVENT
BEGIN:VEVENT
DTSTART;TZID=Asia/Kolkata:20250701T000000
DTEND;TZID=Asia/Kolkata:20250701T000000
DTSTAMP:20260425T183429
CREATED:20250501T115010Z
LAST-MODIFIED:20250501T115010Z
UID:609-1751328000-1751328000@iskconnasik.com
SUMMARY:Sri Vakresvara Pandita -- Disappearance
DESCRIPTION:
URL:https://iskconnasik.com/event/sri-vakresvara-pandita-disappearance/
END:VEVENT
BEGIN:VEVENT
DTSTART;TZID=Asia/Kolkata:20250705T000000
DTEND;TZID=Asia/Kolkata:20250705T000000
DTSTAMP:20260425T183429
CREATED:20250501T115010Z
LAST-MODIFIED:20250501T115010Z
UID:610-1751673600-1751673600@iskconnasik.com
SUMMARY:Return Ratha (8 days after Ratha Yatra)
DESCRIPTION:
URL:https://iskconnasik.com/event/return-ratha-8-days-after-ratha-yatra/
END:VEVENT
BEGIN:VEVENT
DTSTART;TZID=Asia/Kolkata:20250706T000000
DTEND;TZID=Asia/Kolkata:20250706T000000
DTSTAMP:20260425T183429
CREATED:20250501T115010Z
LAST-MODIFIED:20250501T115010Z
UID:611-1751760000-1751760000@iskconnasik.com
SUMMARY:Fasting for Sayana Ekadasi
DESCRIPTION:
URL:https://iskconnasik.com/event/fasting-for-sayana-ekadasi/
END:VEVENT
BEGIN:VEVENT
DTSTART;TZID=Asia/Kolkata:20250707T000000
DTEND;TZID=Asia/Kolkata:20250707T000000
DTSTAMP:20260425T183429
CREATED:20250501T115010Z
LAST-MODIFIED:20250501T115010Z
UID:612-1751846400-1751846400@iskconnasik.com
SUMMARY:Break fast 05:37 (sunrise) - 10:04 (1/3 of daylight) LT
DESCRIPTION:
URL:https://iskconnasik.com/event/break-fast-0537-sunrise-1004-1-3-of-daylight-lt/
END:VEVENT
BEGIN:VEVENT
DTSTART;TZID=Asia/Kolkata:20250710T000000
DTEND;TZID=Asia/Kolkata:20250710T000000
DTSTAMP:20260425T183429
CREATED:20250501T115025Z
LAST-MODIFIED:20250501T115025Z
UID:613-1752105600-1752105600@iskconnasik.com
SUMMARY:Guru (Vyasa) Purnima
DESCRIPTION:
URL:https://iskconnasik.com/event/guru-vyasa-purnima/
END:VEVENT
BEGIN:VEVENT
DTSTART;TZID=Asia/Kolkata:20250710T000000
DTEND;TZID=Asia/Kolkata:20250710T000000
DTSTAMP:20260425T183429
CREATED:20250501T115025Z
LAST-MODIFIED:20250501T115025Z
UID:614-1752105600-1752105600@iskconnasik.com
SUMMARY:Srila Sanatana Gosvami -- Disappearance
DESCRIPTION:
URL:https://iskconnasik.com/event/srila-sanatana-gosvami-disappearance/
END:VEVENT
BEGIN:VEVENT
DTSTART;TZID=Asia/Kolkata:20250710T000000
DTEND;TZID=Asia/Kolkata:20250710T000000
DTSTAMP:20260425T183429
CREATED:20250501T115025Z
LAST-MODIFIED:20250501T115025Z
UID:615-1752105600-1752105600@iskconnasik.com
SUMMARY:First month of Caturmasya begins [PURNIMA SYSTEM]
DESCRIPTION:
URL:https://iskconnasik.com/event/first-month-of-caturmasya-begins-purnima-system/
END:VEVENT
BEGIN:VEVENT
DTSTART;TZID=Asia/Kolkata:20250710T000000
DTEND;TZID=Asia/Kolkata:20250710T000000
DTSTAMP:20260425T183429
CREATED:20250501T115025Z
LAST-MODIFIED:20250501T115025Z
UID:616-1752105600-1752105600@iskconnasik.com
SUMMARY:(green leafy vegetable fast for one month)
DESCRIPTION:
URL:https://iskconnasik.com/event/green-leafy-vegetable-fast-for-one-month/
END:VEVENT
BEGIN:VEVENT
DTSTART;TZID=Asia/Kolkata:20250715T000000
DTEND;TZID=Asia/Kolkata:20250715T000000
DTSTAMP:20260425T183429
CREATED:20250501T115025Z
LAST-MODIFIED:20250501T115025Z
UID:617-1752537600-1752537600@iskconnasik.com
SUMMARY:Srila Gopala Bhatta Gosvami -- Disappearance
DESCRIPTION:
URL:https://iskconnasik.com/event/srila-gopala-bhatta-gosvami-disappearance/
END:VEVENT
BEGIN:VEVENT
DTSTART;TZID=Asia/Kolkata:20250718T000000
DTEND;TZID=Asia/Kolkata:20250718T000000
DTSTAMP:20260425T183429
CREATED:20250501T115040Z
LAST-MODIFIED:20250501T115040Z
UID:618-1752796800-1752796800@iskconnasik.com
SUMMARY:Srila Lokanatha Gosvami -- Disappearance
DESCRIPTION:
URL:https://iskconnasik.com/event/srila-lokanatha-gosvami-disappearance/
END:VEVENT
BEGIN:VEVENT
DTSTART;TZID=Asia/Kolkata:20250719T000000
DTEND;TZID=Asia/Kolkata:20250719T000000
DTSTAMP:20260425T183429
CREATED:20250501T115040Z
LAST-MODIFIED:20250501T115040Z
UID:619-1752883200-1752883200@iskconnasik.com
SUMMARY:The incorporation of ISKCON in New York
DESCRIPTION:
URL:https://iskconnasik.com/event/the-incorporation-of-iskcon-in-new-york/
END:VEVENT
BEGIN:VEVENT
DTSTART;TZID=Asia/Kolkata:20250721T000000
DTEND;TZID=Asia/Kolkata:20250721T000000
DTSTAMP:20260425T183429
CREATED:20250501T115040Z
LAST-MODIFIED:20250501T115040Z
UID:620-1753056000-1753056000@iskconnasik.com
SUMMARY:Fasting for Kamika Ekadasi
DESCRIPTION:
URL:https://iskconnasik.com/event/fasting-for-kamika-ekadasi/
END:VEVENT
BEGIN:VEVENT
DTSTART;TZID=Asia/Kolkata:20250722T000000
DTEND;TZID=Asia/Kolkata:20250722T000000
DTSTAMP:20260425T183429
CREATED:20250501T115040Z
LAST-MODIFIED:20250501T115040Z
UID:621-1753142400-1753142400@iskconnasik.com
SUMMARY:Break fast 05:43 (sunrise) - 07:07 (end of tithi) LT
DESCRIPTION:
URL:https://iskconnasik.com/event/break-fast-0543-sunrise-0707-end-of-tithi-lt/
END:VEVENT
BEGIN:VEVENT
DTSTART;TZID=Asia/Kolkata:20250728T000000
DTEND;TZID=Asia/Kolkata:20250728T000000
DTSTAMP:20260425T183429
CREATED:20250501T115040Z
LAST-MODIFIED:20250501T115040Z
UID:622-1753660800-1753660800@iskconnasik.com
SUMMARY:Sri Vamsidasa Babaji -- Disappearance
DESCRIPTION:
URL:https://iskconnasik.com/event/sri-vamsidasa-babaji-disappearance/
END:VEVENT
BEGIN:VEVENT
DTSTART;TZID=Asia/Kolkata:20250728T000000
DTEND;TZID=Asia/Kolkata:20250728T000000
DTSTAMP:20260425T183429
CREATED:20250501T115055Z
LAST-MODIFIED:20250501T115055Z
UID:623-1753660800-1753660800@iskconnasik.com
SUMMARY:Sri Raghunandana Thakura -- Disappearance
DESCRIPTION:
URL:https://iskconnasik.com/event/sri-raghunandana-thakura-disappearance/
END:VEVENT
BEGIN:VEVENT
DTSTART;TZID=Asia/Kolkata:20250805T000000
DTEND;TZID=Asia/Kolkata:20250805T000000
DTSTAMP:20260425T183429
CREATED:20250501T115055Z
LAST-MODIFIED:20250501T115055Z
UID:624-1754352000-1754352000@iskconnasik.com
SUMMARY:Fasting for Pavitraropana Ekadasi
DESCRIPTION:
URL:https://iskconnasik.com/event/fasting-for-pavitraropana-ekadasi/
END:VEVENT
BEGIN:VEVENT
DTSTART;TZID=Asia/Kolkata:20250805T000000
DTEND;TZID=Asia/Kolkata:20250805T000000
DTSTAMP:20260425T183429
CREATED:20250501T115055Z
LAST-MODIFIED:20250501T115055Z
UID:625-1754352000-1754352000@iskconnasik.com
SUMMARY:Radha Govinda Jhulana Yatra begins
DESCRIPTION:
URL:https://iskconnasik.com/event/radha-govinda-jhulana-yatra-begins/
END:VEVENT
BEGIN:VEVENT
DTSTART;TZID=Asia/Kolkata:20250806T000000
DTEND;TZID=Asia/Kolkata:20250806T000000
DTSTAMP:20260425T183429
CREATED:20250501T115055Z
LAST-MODIFIED:20250501T115055Z
UID:626-1754438400-1754438400@iskconnasik.com
SUMMARY:Break fast 05:49 (sunrise) - 10:09 (1/3 of daylight) LT
DESCRIPTION:
URL:https://iskconnasik.com/event/break-fast-0549-sunrise-1009-1-3-of-daylight-lt/
END:VEVENT
BEGIN:VEVENT
DTSTART;TZID=Asia/Kolkata:20250806T000000
DTEND;TZID=Asia/Kolkata:20250806T000000
DTSTAMP:20260425T183429
CREATED:20250501T115055Z
LAST-MODIFIED:20250501T115055Z
UID:627-1754438400-1754438400@iskconnasik.com
SUMMARY:Srila Rupa Gosvami -- Disappearance
DESCRIPTION:
URL:https://iskconnasik.com/event/srila-rupa-gosvami-disappearance/
END:VEVENT
BEGIN:VEVENT
DTSTART;TZID=Asia/Kolkata:20250806T000000
DTEND;TZID=Asia/Kolkata:20250806T000000
DTSTAMP:20260425T183429
CREATED:20250501T115110Z
LAST-MODIFIED:20250501T115110Z
UID:628-1754438400-1754438400@iskconnasik.com
SUMMARY:Sri Gauridasa Pandita -- Disappearance
DESCRIPTION:
URL:https://iskconnasik.com/event/sri-gauridasa-pandita-disappearance/
END:VEVENT
END:VCALENDAR