BEGIN:VCALENDAR
VERSION:2.0
PRODID:-//ISKCON Nashik - ECPv6.11.2.1//NONSGML v1.0//EN
CALSCALE:GREGORIAN
METHOD:PUBLISH
X-WR-CALNAME:ISKCON Nashik
X-ORIGINAL-URL:https://iskconnasik.com
X-WR-CALDESC:Events for ISKCON Nashik
REFRESH-INTERVAL;VALUE=DURATION:PT1H
X-Robots-Tag:noindex
X-PUBLISHED-TTL:PT1H
BEGIN:VTIMEZONE
TZID:Asia/Kolkata
BEGIN:STANDARD
TZOFFSETFROM:+0530
TZOFFSETTO:+0530
TZNAME:IST
DTSTART:20250101T000000
END:STANDARD
END:VTIMEZONE
BEGIN:VEVENT
DTSTART;TZID=Asia/Kolkata:20250523T000000
DTEND;TZID=Asia/Kolkata:20250523T000000
DTSTAMP:20260425T175834
CREATED:20250501T114855Z
LAST-MODIFIED:20250501T114855Z
UID:584-1747958400-1747958400@iskconnasik.com
SUMMARY:Fasting for Apara Ekadasi
DESCRIPTION:
URL:https://iskconnasik.com/event/fasting-for-apara-ekadasi/
END:VEVENT
BEGIN:VEVENT
DTSTART;TZID=Asia/Kolkata:20250517T000000
DTEND;TZID=Asia/Kolkata:20250517T000000
DTSTAMP:20260425T175834
CREATED:20250501T114854Z
LAST-MODIFIED:20250501T114854Z
UID:583-1747440000-1747440000@iskconnasik.com
SUMMARY:Sri Ramananda Raya -- Disappearance
DESCRIPTION:
URL:https://iskconnasik.com/event/sri-ramananda-raya-disappearance/
END:VEVENT
BEGIN:VEVENT
DTSTART;TZID=Asia/Kolkata:20250514T000000
DTEND;TZID=Asia/Kolkata:20250514T000000
DTSTAMP:20260425T175834
CREATED:20250501T114840Z
LAST-MODIFIED:20250501T114840Z
UID:582-1747180800-1747180800@iskconnasik.com
SUMMARY:Tulasi Jala Dan ends.
DESCRIPTION:
URL:https://iskconnasik.com/event/tulasi-jala-dan-ends/
END:VEVENT
BEGIN:VEVENT
DTSTART;TZID=Asia/Kolkata:20250512T000000
DTEND;TZID=Asia/Kolkata:20250512T000000
DTSTAMP:20260425T175834
CREATED:20250501T114840Z
LAST-MODIFIED:20250501T114840Z
UID:580-1747008000-1747008000@iskconnasik.com
SUMMARY:Sri Madhavendra Puri -- Appearance
DESCRIPTION:
URL:https://iskconnasik.com/event/sri-madhavendra-puri-appearance/
END:VEVENT
BEGIN:VEVENT
DTSTART;TZID=Asia/Kolkata:20250512T000000
DTEND;TZID=Asia/Kolkata:20250512T000000
DTSTAMP:20260425T175834
CREATED:20250501T114840Z
LAST-MODIFIED:20250501T114840Z
UID:581-1747008000-1747008000@iskconnasik.com
SUMMARY:Sri Srinivasa Acarya -- Appearance
DESCRIPTION:
URL:https://iskconnasik.com/event/sri-srinivasa-acarya-appearance/
END:VEVENT
BEGIN:VEVENT
DTSTART;TZID=Asia/Kolkata:20250512T000000
DTEND;TZID=Asia/Kolkata:20250512T000000
DTSTAMP:20260425T175834
CREATED:20250501T114840Z
LAST-MODIFIED:20250501T114840Z
UID:579-1747008000-1747008000@iskconnasik.com
SUMMARY:Sri Paramesvari Dasa Thakura -- Disappearance
DESCRIPTION:
URL:https://iskconnasik.com/event/sri-paramesvari-dasa-thakura-disappearance/
END:VEVENT
BEGIN:VEVENT
DTSTART;TZID=Asia/Kolkata:20250512T000000
DTEND;TZID=Asia/Kolkata:20250512T000000
DTSTAMP:20260425T175834
CREATED:20250501T114839Z
LAST-MODIFIED:20250501T114839Z
UID:578-1747008000-1747008000@iskconnasik.com
SUMMARY:Sri Sri Radha-Ramana Devaji -- Appearance
DESCRIPTION:
URL:https://iskconnasik.com/event/sri-sri-radha-ramana-devaji-appearance/
END:VEVENT
BEGIN:VEVENT
DTSTART;TZID=Asia/Kolkata:20250512T000000
DTEND;TZID=Asia/Kolkata:20250512T000000
DTSTAMP:20260425T175834
CREATED:20250501T114825Z
LAST-MODIFIED:20250501T114825Z
UID:577-1747008000-1747008000@iskconnasik.com
SUMMARY:Krsna Phula Dola\, Salila Vihara
DESCRIPTION:
URL:https://iskconnasik.com/event/krsna-phula-dola-salila-vihara/
END:VEVENT
BEGIN:VEVENT
DTSTART;TZID=Asia/Kolkata:20250511T000000
DTEND;TZID=Asia/Kolkata:20250511T000000
DTSTAMP:20260425T175834
CREATED:20250501T114825Z
LAST-MODIFIED:20250501T114825Z
UID:575-1746921600-1746921600@iskconnasik.com
SUMMARY:Nrsimha Caturdasi: Appearance of Lord Nrsimhadeva
DESCRIPTION:
URL:https://iskconnasik.com/event/nrsimha-caturdasi-appearance-of-lord-nrsimhadeva/
END:VEVENT
BEGIN:VEVENT
DTSTART;TZID=Asia/Kolkata:20250511T000000
DTEND;TZID=Asia/Kolkata:20250511T000000
DTSTAMP:20260425T175834
CREATED:20250501T114825Z
LAST-MODIFIED:20250501T114825Z
UID:576-1746921600-1746921600@iskconnasik.com
SUMMARY:(Fast today)
DESCRIPTION:
URL:https://iskconnasik.com/event/fast-today-5/
END:VEVENT
BEGIN:VEVENT
DTSTART;TZID=Asia/Kolkata:20250510T000000
DTEND;TZID=Asia/Kolkata:20250510T000000
DTSTAMP:20260425T175834
CREATED:20250501T114825Z
LAST-MODIFIED:20250501T114825Z
UID:574-1746835200-1746835200@iskconnasik.com
SUMMARY:Sri Jayananda Prabhu -- Disappearance
DESCRIPTION:
URL:https://iskconnasik.com/event/sri-jayananda-prabhu-disappearance/
END:VEVENT
BEGIN:VEVENT
DTSTART;TZID=Asia/Kolkata:20250509T000000
DTEND;TZID=Asia/Kolkata:20250509T000000
DTSTAMP:20260425T175834
CREATED:20250501T114825Z
LAST-MODIFIED:20250501T114825Z
UID:573-1746748800-1746748800@iskconnasik.com
SUMMARY:Rukmini Dvadasi
DESCRIPTION:
URL:https://iskconnasik.com/event/rukmini-dvadasi/
END:VEVENT
BEGIN:VEVENT
DTSTART;TZID=Asia/Kolkata:20250509T000000
DTEND;TZID=Asia/Kolkata:20250509T000000
DTSTAMP:20260425T175834
CREATED:20250501T114810Z
LAST-MODIFIED:20250501T114810Z
UID:572-1746748800-1746748800@iskconnasik.com
SUMMARY:Break fast 05:38 (sunrise) - 09:59 (1/3 of daylight) LT
DESCRIPTION:
URL:https://iskconnasik.com/event/break-fast-0538-sunrise-0959-1-3-of-daylight-lt/
END:VEVENT
BEGIN:VEVENT
DTSTART;TZID=Asia/Kolkata:20250508T000000
DTEND;TZID=Asia/Kolkata:20250508T000000
DTSTAMP:20260425T175834
CREATED:20250501T114810Z
LAST-MODIFIED:20250501T114810Z
UID:571-1746662400-1746662400@iskconnasik.com
SUMMARY:Fasting for Mohini Ekadasi
DESCRIPTION:
URL:https://iskconnasik.com/event/fasting-for-mohini-ekadasi/
END:VEVENT
BEGIN:VEVENT
DTSTART;TZID=Asia/Kolkata:20250506T000000
DTEND;TZID=Asia/Kolkata:20250506T000000
DTSTAMP:20260425T175834
CREATED:20250501T114810Z
LAST-MODIFIED:20250501T114810Z
UID:569-1746489600-1746489600@iskconnasik.com
SUMMARY:Sri Madhu Pandita -- Disappearance
DESCRIPTION:
URL:https://iskconnasik.com/event/sri-madhu-pandita-disappearance/
END:VEVENT
BEGIN:VEVENT
DTSTART;TZID=Asia/Kolkata:20250506T000000
DTEND;TZID=Asia/Kolkata:20250506T000000
DTSTAMP:20260425T175834
CREATED:20250501T114810Z
LAST-MODIFIED:20250501T114810Z
UID:570-1746489600-1746489600@iskconnasik.com
SUMMARY:Srimati Jahnava Devi -- Appearance
DESCRIPTION:
URL:https://iskconnasik.com/event/srimati-jahnava-devi-appearance/
END:VEVENT
BEGIN:VEVENT
DTSTART;TZID=Asia/Kolkata:20250506T000000
DTEND;TZID=Asia/Kolkata:20250506T000000
DTSTAMP:20260425T175834
CREATED:20250501T114809Z
LAST-MODIFIED:20250501T114809Z
UID:568-1746489600-1746489600@iskconnasik.com
SUMMARY:Srimati Sita Devi (consort of Lord Sri Rama) -- Appearance
DESCRIPTION:
URL:https://iskconnasik.com/event/srimati-sita-devi-consort-of-lord-sri-rama-appearance/
END:VEVENT
BEGIN:VEVENT
DTSTART;TZID=Asia/Kolkata:20250430T000000
DTEND;TZID=Asia/Kolkata:20250430T000000
DTSTAMP:20260425T175834
CREATED:20250501T114755Z
LAST-MODIFIED:20250501T114755Z
UID:567-1745971200-1745971200@iskconnasik.com
SUMMARY:Aksaya Trtiya. Candana Yatra starts. (Continues for 21 days)
DESCRIPTION:
URL:https://iskconnasik.com/event/aksaya-trtiya-candana-yatra-starts-continues-for-21-days/
END:VEVENT
BEGIN:VEVENT
DTSTART;TZID=Asia/Kolkata:20250427T000000
DTEND;TZID=Asia/Kolkata:20250427T000000
DTSTAMP:20260425T175834
CREATED:20250501T114755Z
LAST-MODIFIED:20250501T114755Z
UID:566-1745712000-1745712000@iskconnasik.com
SUMMARY:Sri Gadadhara Pandita -- Appearance
DESCRIPTION:
URL:https://iskconnasik.com/event/sri-gadadhara-pandita-appearance/
END:VEVENT
BEGIN:VEVENT
DTSTART;TZID=Asia/Kolkata:20250425T000000
DTEND;TZID=Asia/Kolkata:20250425T000000
DTSTAMP:20260425T175834
CREATED:20250501T114755Z
LAST-MODIFIED:20250501T114755Z
UID:565-1745539200-1745539200@iskconnasik.com
SUMMARY:Break fast 05:47 (sunrise) - 10:03 (1/3 of daylight) LT
DESCRIPTION:
URL:https://iskconnasik.com/event/break-fast-0547-sunrise-1003-1-3-of-daylight-lt/
END:VEVENT
BEGIN:VEVENT
DTSTART;TZID=Asia/Kolkata:20250424T000000
DTEND;TZID=Asia/Kolkata:20250424T000000
DTSTAMP:20260425T175834
CREATED:20250501T114754Z
LAST-MODIFIED:20250501T114754Z
UID:564-1745452800-1745452800@iskconnasik.com
SUMMARY:Fasting for Varuthini Ekadasi
DESCRIPTION:
URL:https://iskconnasik.com/event/fasting-for-varuthini-ekadasi/
END:VEVENT
BEGIN:VEVENT
DTSTART;TZID=Asia/Kolkata:20250423T000000
DTEND;TZID=Asia/Kolkata:20250423T000000
DTSTAMP:20260425T175834
CREATED:20250501T114754Z
LAST-MODIFIED:20250501T114754Z
UID:563-1745366400-1745366400@iskconnasik.com
SUMMARY:Srila Vrndavana Dasa Thakura -- Disappearance
DESCRIPTION:
URL:https://iskconnasik.com/event/srila-vrndavana-dasa-thakura-disappearance/
END:VEVENT
BEGIN:VEVENT
DTSTART;TZID=Asia/Kolkata:20250420T000000
DTEND;TZID=Asia/Kolkata:20250420T000000
DTSTAMP:20260425T175834
CREATED:20250501T114740Z
LAST-MODIFIED:20250501T114740Z
UID:562-1745107200-1745107200@iskconnasik.com
SUMMARY:Sri Abhirama Thakura -- Disappearance
DESCRIPTION:
URL:https://iskconnasik.com/event/sri-abhirama-thakura-disappearance/
END:VEVENT
BEGIN:VEVENT
DTSTART;TZID=Asia/Kolkata:20250414T000000
DTEND;TZID=Asia/Kolkata:20250414T000000
DTSTAMP:20260425T175834
CREATED:20250501T114740Z
LAST-MODIFIED:20250501T114740Z
UID:561-1744588800-1744588800@iskconnasik.com
SUMMARY:Tulasi Jala Dan begins.
DESCRIPTION:
URL:https://iskconnasik.com/event/tulasi-jala-dan-begins/
END:VEVENT
BEGIN:VEVENT
DTSTART;TZID=Asia/Kolkata:20250412T000000
DTEND;TZID=Asia/Kolkata:20250412T000000
DTSTAMP:20260425T175834
CREATED:20250501T114740Z
LAST-MODIFIED:20250501T114740Z
UID:559-1744416000-1744416000@iskconnasik.com
SUMMARY:Sri Vamsivadana Thakura -- Appearance
DESCRIPTION:
URL:https://iskconnasik.com/event/sri-vamsivadana-thakura-appearance/
END:VEVENT
BEGIN:VEVENT
DTSTART;TZID=Asia/Kolkata:20250412T000000
DTEND;TZID=Asia/Kolkata:20250412T000000
DTSTAMP:20260425T175834
CREATED:20250501T114740Z
LAST-MODIFIED:20250501T114740Z
UID:560-1744416000-1744416000@iskconnasik.com
SUMMARY:Sri Syamananda Prabhu -- Appearance
DESCRIPTION:
URL:https://iskconnasik.com/event/sri-syamananda-prabhu-appearance/
END:VEVENT
BEGIN:VEVENT
DTSTART;TZID=Asia/Kolkata:20250412T000000
DTEND;TZID=Asia/Kolkata:20250412T000000
DTSTAMP:20260425T175834
CREATED:20250501T114739Z
LAST-MODIFIED:20250501T114739Z
UID:558-1744416000-1744416000@iskconnasik.com
SUMMARY:Appearance of Radha Kunda\, snana dana
DESCRIPTION:
URL:https://iskconnasik.com/event/appearance-of-radha-kunda-snana-dana/
END:VEVENT
BEGIN:VEVENT
DTSTART;TZID=Asia/Kolkata:20250412T000000
DTEND;TZID=Asia/Kolkata:20250412T000000
DTSTAMP:20260425T175834
CREATED:20250501T114725Z
LAST-MODIFIED:20250501T114725Z
UID:556-1744416000-1744416000@iskconnasik.com
SUMMARY:Sri Balarama Rasayatra
DESCRIPTION:
URL:https://iskconnasik.com/event/sri-balarama-rasayatra/
END:VEVENT
BEGIN:VEVENT
DTSTART;TZID=Asia/Kolkata:20250412T000000
DTEND;TZID=Asia/Kolkata:20250412T000000
DTSTAMP:20260425T175834
CREATED:20250501T114725Z
LAST-MODIFIED:20250501T114725Z
UID:557-1744416000-1744416000@iskconnasik.com
SUMMARY:Sri Krsna Vasanta Rasa
DESCRIPTION:
URL:https://iskconnasik.com/event/sri-krsna-vasanta-rasa/
END:VEVENT
BEGIN:VEVENT
DTSTART;TZID=Asia/Kolkata:20250409T000000
DTEND;TZID=Asia/Kolkata:20250409T000000
DTSTAMP:20260425T175834
CREATED:20250501T114725Z
LAST-MODIFIED:20250501T114725Z
UID:554-1744156800-1744156800@iskconnasik.com
SUMMARY:Break fast 05:59 (sunrise) - 10:10 (1/3 of daylight) LT
DESCRIPTION:
URL:https://iskconnasik.com/event/break-fast-0559-sunrise-1010-1-3-of-daylight-lt/
END:VEVENT
END:VCALENDAR