BEGIN:VCALENDAR
VERSION:2.0
PRODID:-//ISKCON Nashik - ECPv6.11.2.1//NONSGML v1.0//EN
CALSCALE:GREGORIAN
METHOD:PUBLISH
X-WR-CALNAME:ISKCON Nashik
X-ORIGINAL-URL:https://iskconnasik.com
X-WR-CALDESC:Events for ISKCON Nashik
REFRESH-INTERVAL;VALUE=DURATION:PT1H
X-Robots-Tag:noindex
X-PUBLISHED-TTL:PT1H
BEGIN:VTIMEZONE
TZID:Asia/Kolkata
BEGIN:STANDARD
TZOFFSETFROM:+0530
TZOFFSETTO:+0530
TZNAME:IST
DTSTART:20250101T000000
END:STANDARD
END:VTIMEZONE
BEGIN:VEVENT
DTSTART;TZID=Asia/Kolkata:20250210T000000
DTEND;TZID=Asia/Kolkata:20250210T000000
DTSTAMP:20260425T231633
CREATED:20250501T114608Z
LAST-MODIFIED:20250501T114608Z
UID:528-1739145600-1739145600@iskconnasik.com
SUMMARY:(Fast today)
DESCRIPTION:
URL:https://iskconnasik.com/event/fast-today-2/
END:VEVENT
BEGIN:VEVENT
DTSTART;TZID=Asia/Kolkata:20250210T000000
DTEND;TZID=Asia/Kolkata:20250210T000000
DTSTAMP:20260425T231633
CREATED:20250501T114554Z
LAST-MODIFIED:20250501T114554Z
UID:527-1739145600-1739145600@iskconnasik.com
SUMMARY:Nityananda Trayodasi: Appearance of Sri Nityananda Prabhu
DESCRIPTION:
URL:https://iskconnasik.com/event/nityananda-trayodasi-appearance-of-sri-nityananda-prabhu/
END:VEVENT
BEGIN:VEVENT
DTSTART;TZID=Asia/Kolkata:20250209T000000
DTEND;TZID=Asia/Kolkata:20250209T000000
DTSTAMP:20260425T231633
CREATED:20250501T114554Z
LAST-MODIFIED:20250501T114554Z
UID:526-1739059200-1739059200@iskconnasik.com
SUMMARY:(Fasting is done yesterday)
DESCRIPTION:
URL:https://iskconnasik.com/event/fasting-is-done-yesterday/
END:VEVENT
BEGIN:VEVENT
DTSTART;TZID=Asia/Kolkata:20250209T000000
DTEND;TZID=Asia/Kolkata:20250209T000000
DTSTAMP:20260425T231633
CREATED:20250501T114554Z
LAST-MODIFIED:20250501T114554Z
UID:524-1739059200-1739059200@iskconnasik.com
SUMMARY:Break fast 06:47 (sunrise) - 10:34 (1/3 of daylight) LT
DESCRIPTION:
URL:https://iskconnasik.com/event/break-fast-0647-sunrise-1034-1-3-of-daylight-lt/
END:VEVENT
BEGIN:VEVENT
DTSTART;TZID=Asia/Kolkata:20250209T000000
DTEND;TZID=Asia/Kolkata:20250209T000000
DTSTAMP:20260425T231633
CREATED:20250501T114554Z
LAST-MODIFIED:20250501T114554Z
UID:525-1739059200-1739059200@iskconnasik.com
SUMMARY:Varaha Dvadasi: Appearance of Lord Varahadeva
DESCRIPTION:
URL:https://iskconnasik.com/event/varaha-dvadasi-appearance-of-lord-varahadeva/
END:VEVENT
BEGIN:VEVENT
DTSTART;TZID=Asia/Kolkata:20250208T000000
DTEND;TZID=Asia/Kolkata:20250208T000000
DTSTAMP:20260425T231633
CREATED:20250501T114554Z
LAST-MODIFIED:20250501T114554Z
UID:523-1738972800-1738972800@iskconnasik.com
SUMMARY:(Fast today for Varahadeva)
DESCRIPTION:
URL:https://iskconnasik.com/event/fast-today-for-varahadeva/
END:VEVENT
BEGIN:VEVENT
DTSTART;TZID=Asia/Kolkata:20250208T000000
DTEND;TZID=Asia/Kolkata:20250208T000000
DTSTAMP:20260425T231633
CREATED:20250501T114539Z
LAST-MODIFIED:20250501T114539Z
UID:522-1738972800-1738972800@iskconnasik.com
SUMMARY:Fasting for Bhaimi Ekadasi
DESCRIPTION:
URL:https://iskconnasik.com/event/fasting-for-bhaimi-ekadasi/
END:VEVENT
BEGIN:VEVENT
DTSTART;TZID=Asia/Kolkata:20250207T000000
DTEND;TZID=Asia/Kolkata:20250207T000000
DTSTAMP:20260425T231633
CREATED:20250501T114539Z
LAST-MODIFIED:20250501T114539Z
UID:521-1738886400-1738886400@iskconnasik.com
SUMMARY:Sri Ramanujacarya -- Disappearance
DESCRIPTION:
URL:https://iskconnasik.com/event/sri-ramanujacarya-disappearance/
END:VEVENT
BEGIN:VEVENT
DTSTART;TZID=Asia/Kolkata:20250206T000000
DTEND;TZID=Asia/Kolkata:20250206T000000
DTSTAMP:20260425T231633
CREATED:20250501T114539Z
LAST-MODIFIED:20250501T114539Z
UID:520-1738800000-1738800000@iskconnasik.com
SUMMARY:Sri Madhvacarya -- Disappearance
DESCRIPTION:
URL:https://iskconnasik.com/event/sri-madhvacarya-disappearance/
END:VEVENT
BEGIN:VEVENT
DTSTART;TZID=Asia/Kolkata:20250205T000000
DTEND;TZID=Asia/Kolkata:20250205T000000
DTSTAMP:20260425T231633
CREATED:20250501T114539Z
LAST-MODIFIED:20250501T114539Z
UID:519-1738713600-1738713600@iskconnasik.com
SUMMARY:Bhismastami
DESCRIPTION:
URL:https://iskconnasik.com/event/bhismastami/
END:VEVENT
BEGIN:VEVENT
DTSTART;TZID=Asia/Kolkata:20250204T000000
DTEND;TZID=Asia/Kolkata:20250204T000000
DTSTAMP:20260425T231633
CREATED:20250501T114539Z
LAST-MODIFIED:20250501T114539Z
UID:518-1738627200-1738627200@iskconnasik.com
SUMMARY:(Fast today)
DESCRIPTION:
URL:https://iskconnasik.com/event/fast-today/
END:VEVENT
BEGIN:VEVENT
DTSTART;TZID=Asia/Kolkata:20250204T000000
DTEND;TZID=Asia/Kolkata:20250204T000000
DTSTAMP:20260425T231633
CREATED:20250501T114524Z
LAST-MODIFIED:20250501T114524Z
UID:517-1738627200-1738627200@iskconnasik.com
SUMMARY:Sri Advaita Acarya -- Appearance
DESCRIPTION:
URL:https://iskconnasik.com/event/sri-advaita-acarya-appearance/
END:VEVENT
BEGIN:VEVENT
DTSTART;TZID=Asia/Kolkata:20250203T000000
DTEND;TZID=Asia/Kolkata:20250203T000000
DTSTAMP:20260425T231633
CREATED:20250501T114524Z
LAST-MODIFIED:20250501T114524Z
UID:515-1738540800-1738540800@iskconnasik.com
SUMMARY:Sri Raghunandana Thakura -- Appearance
DESCRIPTION:
URL:https://iskconnasik.com/event/sri-raghunandana-thakura-appearance/
END:VEVENT
BEGIN:VEVENT
DTSTART;TZID=Asia/Kolkata:20250203T000000
DTEND;TZID=Asia/Kolkata:20250203T000000
DTSTAMP:20260425T231633
CREATED:20250501T114524Z
LAST-MODIFIED:20250501T114524Z
UID:516-1738540800-1738540800@iskconnasik.com
SUMMARY:Srila Raghunatha Dasa Gosvami -- Appearance
DESCRIPTION:
URL:https://iskconnasik.com/event/srila-raghunatha-dasa-gosvami-appearance/
END:VEVENT
BEGIN:VEVENT
DTSTART;TZID=Asia/Kolkata:20250203T000000
DTEND;TZID=Asia/Kolkata:20250203T000000
DTSTAMP:20260425T231633
CREATED:20250501T114523Z
LAST-MODIFIED:20250501T114523Z
UID:513-1738540800-1738540800@iskconnasik.com
SUMMARY:Srila Visvanatha Cakravarti Thakura -- Disappearance
DESCRIPTION:
URL:https://iskconnasik.com/event/srila-visvanatha-cakravarti-thakura-disappearance/
END:VEVENT
BEGIN:VEVENT
DTSTART;TZID=Asia/Kolkata:20250203T000000
DTEND;TZID=Asia/Kolkata:20250203T000000
DTSTAMP:20260425T231633
CREATED:20250501T114523Z
LAST-MODIFIED:20250501T114523Z
UID:514-1738540800-1738540800@iskconnasik.com
SUMMARY:Sri Pundarika Vidyanidhi -- Appearance
DESCRIPTION:
URL:https://iskconnasik.com/event/sri-pundarika-vidyanidhi-appearance/
END:VEVENT
BEGIN:VEVENT
DTSTART;TZID=Asia/Kolkata:20250203T000000
DTEND;TZID=Asia/Kolkata:20250203T000000
DTSTAMP:20260425T231633
CREATED:20250501T114509Z
LAST-MODIFIED:20250501T114509Z
UID:511-1738540800-1738540800@iskconnasik.com
SUMMARY:Vasanta Pancami
DESCRIPTION:
URL:https://iskconnasik.com/event/vasanta-pancami/
END:VEVENT
BEGIN:VEVENT
DTSTART;TZID=Asia/Kolkata:20250203T000000
DTEND;TZID=Asia/Kolkata:20250203T000000
DTSTAMP:20260425T231633
CREATED:20250501T114509Z
LAST-MODIFIED:20250501T114509Z
UID:512-1738540800-1738540800@iskconnasik.com
SUMMARY:Srimati Visnupriya Devi -- Appearance
DESCRIPTION:
URL:https://iskconnasik.com/event/srimati-visnupriya-devi-appearance/
END:VEVENT
BEGIN:VEVENT
DTSTART;TZID=Asia/Kolkata:20250126T000000
DTEND;TZID=Asia/Kolkata:20250126T000000
DTSTAMP:20260425T231633
CREATED:20250501T114509Z
LAST-MODIFIED:20250501T114509Z
UID:510-1737849600-1737849600@iskconnasik.com
SUMMARY:Break fast 06:52 (sunrise) - 10:34 (1/3 of daylight) LT
DESCRIPTION:
URL:https://iskconnasik.com/event/break-fast-0652-sunrise-1034-1-3-of-daylight-lt/
END:VEVENT
BEGIN:VEVENT
DTSTART;TZID=Asia/Kolkata:20250125T000000
DTEND;TZID=Asia/Kolkata:20250125T000000
DTSTAMP:20260425T231633
CREATED:20250501T114508Z
LAST-MODIFIED:20250501T114508Z
UID:509-1737763200-1737763200@iskconnasik.com
SUMMARY:Fasting for Sat-tila Ekadasi
DESCRIPTION:
URL:https://iskconnasik.com/event/fasting-for-sat-tila-ekadasi/
END:VEVENT
BEGIN:VEVENT
DTSTART;TZID=Asia/Kolkata:20250121T000000
DTEND;TZID=Asia/Kolkata:20250121T000000
DTSTAMP:20260425T231633
CREATED:20250501T114508Z
LAST-MODIFIED:20250501T114508Z
UID:508-1737417600-1737417600@iskconnasik.com
SUMMARY:Sri Locana Dasa Thakura -- Disappearance
DESCRIPTION:
URL:https://iskconnasik.com/event/sri-locana-dasa-thakura-disappearance/
END:VEVENT
BEGIN:VEVENT
DTSTART;TZID=Asia/Kolkata:20250120T000000
DTEND;TZID=Asia/Kolkata:20250120T000000
DTSTAMP:20260425T231633
CREATED:20250501T114453Z
LAST-MODIFIED:20250501T114453Z
UID:502-1737331200-1737331200@iskconnasik.com
SUMMARY:Sri Jayadeva Gosvami -- Disappearance
DESCRIPTION:
URL:https://iskconnasik.com/event/sri-jayadeva-gosvami-disappearance/
END:VEVENT
BEGIN:VEVENT
DTSTART;TZID=Asia/Kolkata:20250118T000000
DTEND;TZID=Asia/Kolkata:20250118T000000
DTSTAMP:20260425T231633
CREATED:20250501T114453Z
LAST-MODIFIED:20250501T114453Z
UID:500-1737158400-1737158400@iskconnasik.com
SUMMARY:Sri Ramacandra Kaviraja -- Disappearance
DESCRIPTION:
URL:https://iskconnasik.com/event/sri-ramacandra-kaviraja-disappearance/
END:VEVENT
BEGIN:VEVENT
DTSTART;TZID=Asia/Kolkata:20250118T000000
DTEND;TZID=Asia/Kolkata:20250118T000000
DTSTAMP:20260425T231633
CREATED:20250501T114453Z
LAST-MODIFIED:20250501T114453Z
UID:501-1737158400-1737158400@iskconnasik.com
SUMMARY:Srila Gopala Bhatta Gosvami -- Appearance
DESCRIPTION:
URL:https://iskconnasik.com/event/srila-gopala-bhatta-gosvami-appearance/
END:VEVENT
BEGIN:VEVENT
DTSTART;TZID=Asia/Kolkata:20250114T000000
DTEND;TZID=Asia/Kolkata:20250114T000000
DTSTAMP:20260425T231633
CREATED:20250501T114453Z
LAST-MODIFIED:20250501T114453Z
UID:499-1736812800-1736812800@iskconnasik.com
SUMMARY:Ganga Sagara Mela
DESCRIPTION:
URL:https://iskconnasik.com/event/ganga-sagara-mela/
END:VEVENT
BEGIN:VEVENT
DTSTART;TZID=Asia/Kolkata:20250113T000000
DTEND;TZID=Asia/Kolkata:20250113T000000
DTSTAMP:20260425T231633
CREATED:20250501T114453Z
LAST-MODIFIED:20250501T114453Z
UID:498-1736726400-1736726400@iskconnasik.com
SUMMARY:Sri Krsna Pusya Abhiseka
DESCRIPTION:
URL:https://iskconnasik.com/event/sri-krsna-pusya-abhiseka/
END:VEVENT
BEGIN:VEVENT
DTSTART;TZID=Asia/Kolkata:20250111T000000
DTEND;TZID=Asia/Kolkata:20250111T000000
DTSTAMP:20260425T231633
CREATED:20250501T114452Z
LAST-MODIFIED:20250501T114452Z
UID:496-1736553600-1736553600@iskconnasik.com
SUMMARY:Break fast 06:53 (sunrise) - 08:23 (end of tithi) LT
DESCRIPTION:
URL:https://iskconnasik.com/event/break-fast-0653-sunrise-0823-end-of-tithi-lt/
END:VEVENT
BEGIN:VEVENT
DTSTART;TZID=Asia/Kolkata:20250111T000000
DTEND;TZID=Asia/Kolkata:20250111T000000
DTSTAMP:20260425T231633
CREATED:20250501T114452Z
LAST-MODIFIED:20250501T114452Z
UID:497-1736553600-1736553600@iskconnasik.com
SUMMARY:Sri Jagadisa Pandita -- Appearance
DESCRIPTION:
URL:https://iskconnasik.com/event/sri-jagadisa-pandita-appearance/
END:VEVENT
BEGIN:VEVENT
DTSTART;TZID=Asia/Kolkata:20250110T000000
DTEND;TZID=Asia/Kolkata:20250110T000000
DTSTAMP:20260425T231633
CREATED:20250501T114452Z
LAST-MODIFIED:20250501T114452Z
UID:495-1736467200-1736467200@iskconnasik.com
SUMMARY:Fasting for Putrada Ekadasi
DESCRIPTION:
URL:https://iskconnasik.com/event/fasting-for-putrada-ekadasi/
END:VEVENT
BEGIN:VEVENT
DTSTART;TZID=Asia/Kolkata:20250102T000000
DTEND;TZID=Asia/Kolkata:20250102T000000
DTSTAMP:20260425T231633
CREATED:20250501T114452Z
LAST-MODIFIED:20250501T114452Z
UID:494-1735776000-1735776000@iskconnasik.com
SUMMARY:Sri Jagadisa Pandita -- Disappearance
DESCRIPTION:
URL:https://iskconnasik.com/event/sri-jagadisa-pandita-disappearance/
END:VEVENT
END:VCALENDAR