BEGIN:VCALENDAR
VERSION:2.0
PRODID:-//ISKCON Nashik - ECPv6.11.2.1//NONSGML v1.0//EN
CALSCALE:GREGORIAN
METHOD:PUBLISH
X-ORIGINAL-URL:https://iskconnasik.com
X-WR-CALDESC:Events for ISKCON Nashik
REFRESH-INTERVAL;VALUE=DURATION:PT1H
X-Robots-Tag:noindex
X-PUBLISHED-TTL:PT1H
BEGIN:VTIMEZONE
TZID:Asia/Kolkata
BEGIN:STANDARD
TZOFFSETFROM:+0530
TZOFFSETTO:+0530
TZNAME:IST
DTSTART:20260101T000000
END:STANDARD
END:VTIMEZONE
BEGIN:VEVENT
DTSTART;TZID=Asia/Kolkata:20260501T000000
DTEND;TZID=Asia/Kolkata:20260501T000000
DTSTAMP:20260421T154744
CREATED:20260120T114258Z
LAST-MODIFIED:20260120T114258Z
UID:970-1777593600-1777593600@iskconnasik.com
SUMMARY: Disappearance Day of Sri Paramesvari Dasa Thakura
DESCRIPTION:
URL:https://iskconnasik.com/event/disappearance-day-of-sri-paramesvari-dasa-thakura/
END:VEVENT
BEGIN:VEVENT
DTSTART;TZID=Asia/Kolkata:20260501T000000
DTEND;TZID=Asia/Kolkata:20260501T000000
DTSTAMP:20260421T154744
CREATED:20260120T114258Z
LAST-MODIFIED:20260120T114258Z
UID:967-1777593600-1777593600@iskconnasik.com
SUMMARY: Buddha Purnima – Appearance Day of Lord Buddha
DESCRIPTION:
URL:https://iskconnasik.com/event/buddha-purnima-appearance-day-of-lord-buddha/
END:VEVENT
BEGIN:VEVENT
DTSTART;TZID=Asia/Kolkata:20260501T000000
DTEND;TZID=Asia/Kolkata:20260501T000000
DTSTAMP:20260421T154744
CREATED:20260120T114258Z
LAST-MODIFIED:20260120T114258Z
UID:968-1777593600-1777593600@iskconnasik.com
SUMMARY: Appearance Day of Sri Madhavendra Puri
DESCRIPTION:
URL:https://iskconnasik.com/event/appearance-day-of-sri-madhavendra-puri/
END:VEVENT
BEGIN:VEVENT
DTSTART;TZID=Asia/Kolkata:20260501T000000
DTEND;TZID=Asia/Kolkata:20260501T000000
DTSTAMP:20260421T154744
CREATED:20260120T114258Z
LAST-MODIFIED:20260120T114258Z
UID:969-1777593600-1777593600@iskconnasik.com
SUMMARY: Appearance Day of Sri Srinivasa Acharya
DESCRIPTION:
URL:https://iskconnasik.com/event/appearance-day-of-sri-srinivasa-acharya/
END:VEVENT
BEGIN:VEVENT
DTSTART;TZID=Asia/Kolkata:20260513T000000
DTEND;TZID=Asia/Kolkata:20260513T000000
DTSTAMP:20260421T154744
CREATED:20260120T114458Z
LAST-MODIFIED:20260120T114458Z
UID:972-1778630400-1778630400@iskconnasik.com
SUMMARY: Apara Ekadasi
DESCRIPTION:
URL:https://iskconnasik.com/event/apara-ekadasi/
END:VEVENT
BEGIN:VEVENT
DTSTART;TZID=Asia/Kolkata:20260514T000000
DTEND;TZID=Asia/Kolkata:20260514T000000
DTSTAMP:20260421T154744
CREATED:20260120T114459Z
LAST-MODIFIED:20260120T114459Z
UID:973-1778716800-1778716800@iskconnasik.com
SUMMARY: Appearance Day of Srila Vrndavana Dasa Thakura
DESCRIPTION:
URL:https://iskconnasik.com/event/appearance-day-of-srila-vrndavana-dasa-thakura/
END:VEVENT
BEGIN:VEVENT
DTSTART;TZID=Asia/Kolkata:20260527T000000
DTEND;TZID=Asia/Kolkata:20260527T000000
DTSTAMP:20260421T154744
CREATED:20260120T114459Z
LAST-MODIFIED:20260120T114459Z
UID:975-1779840000-1779840000@iskconnasik.com
SUMMARY: Padmini Mahadvadashi
DESCRIPTION:
URL:https://iskconnasik.com/event/padmini-mahadvadashi/
END:VEVENT
BEGIN:VEVENT
DTSTART;TZID=Asia/Kolkata:20260624T000000
DTEND;TZID=Asia/Kolkata:20260624T000000
DTSTAMP:20260421T154744
CREATED:20260120T114459Z
LAST-MODIFIED:20260120T114459Z
UID:976-1782259200-1782259200@iskconnasik.com
SUMMARY: Ganga Puja
DESCRIPTION:
URL:https://iskconnasik.com/event/ganga-puja-2/
END:VEVENT
BEGIN:VEVENT
DTSTART;TZID=Asia/Kolkata:20260624T000000
DTEND;TZID=Asia/Kolkata:20260624T000000
DTSTAMP:20260421T154744
CREATED:20260120T114659Z
LAST-MODIFIED:20260120T114659Z
UID:977-1782259200-1782259200@iskconnasik.com
SUMMARY: Disappearance Day of Sri Baladeva Vidyabhusana
DESCRIPTION:
URL:https://iskconnasik.com/event/disappearance-day-of-sri-baladeva-vidyabhusana/
END:VEVENT
BEGIN:VEVENT
DTSTART;TZID=Asia/Kolkata:20260624T000000
DTEND;TZID=Asia/Kolkata:20260624T000000
DTSTAMP:20260421T154744
CREATED:20260120T114659Z
LAST-MODIFIED:20260120T114659Z
UID:978-1782259200-1782259200@iskconnasik.com
SUMMARY: Appearance Day of Srimati Gangamata Goswami
DESCRIPTION:
URL:https://iskconnasik.com/event/appearance-day-of-srimati-gangamata-goswami/
END:VEVENT
BEGIN:VEVENT
DTSTART;TZID=Asia/Kolkata:20260625T000000
DTEND;TZID=Asia/Kolkata:20260625T000000
DTSTAMP:20260421T154744
CREATED:20260120T114659Z
LAST-MODIFIED:20260120T114659Z
UID:979-1782345600-1782345600@iskconnasik.com
SUMMARY: Pandava Nirjala Ekadashi
DESCRIPTION:
URL:https://iskconnasik.com/event/pandava-nirjala-ekadashi/
END:VEVENT
BEGIN:VEVENT
DTSTART;TZID=Asia/Kolkata:20260627T000000
DTEND;TZID=Asia/Kolkata:20260627T000000
DTSTAMP:20260421T154744
CREATED:20260120T114659Z
LAST-MODIFIED:20260120T114659Z
UID:980-1782518400-1782518400@iskconnasik.com
SUMMARY: Panihati Cida Dahi Utsava
DESCRIPTION:
URL:https://iskconnasik.com/event/panihati-cida-dahi-utsava-2/
END:VEVENT
BEGIN:VEVENT
DTSTART;TZID=Asia/Kolkata:20260629T000000
DTEND;TZID=Asia/Kolkata:20260629T000000
DTSTAMP:20260421T154744
CREATED:20260120T114659Z
LAST-MODIFIED:20260120T114659Z
UID:981-1782691200-1782691200@iskconnasik.com
SUMMARY: Snana Yatra
DESCRIPTION:
URL:https://iskconnasik.com/event/snana-yatra-2/
END:VEVENT
END:VCALENDAR