BEGIN:VCALENDAR
VERSION:2.0
PRODID:-//ISKCON Nashik - ECPv6.11.2.1//NONSGML v1.0//EN
CALSCALE:GREGORIAN
METHOD:PUBLISH
X-WR-CALNAME:ISKCON Nashik
X-ORIGINAL-URL:https://iskconnasik.com
X-WR-CALDESC:Events for ISKCON Nashik
REFRESH-INTERVAL;VALUE=DURATION:PT1H
X-Robots-Tag:noindex
X-PUBLISHED-TTL:PT1H

BEGIN:VEVENT
DTSTART;TZID=Asia/Kolkata:20250121T000000
DTEND;TZID=Asia/Kolkata:20250121T000000
DTSTAMP:20260425T162036
CREATED:20250501T114508Z
LAST-MODIFIED:20250501T114508Z
UID:508-1737417600-1737417600@iskconnasik.com
SUMMARY:Sri Locana Dasa Thakura -- Disappearance
DESCRIPTION:
URL:https://iskconnasik.com/event/sri-locana-dasa-thakura-disappearance/
END:VEVENT
BEGIN:VEVENT
DTSTART;TZID=Asia/Kolkata:20250120T000000
DTEND;TZID=Asia/Kolkata:20250120T000000
DTSTAMP:20260425T162036
CREATED:20250501T114453Z
LAST-MODIFIED:20250501T114453Z
UID:502-1737331200-1737331200@iskconnasik.com
SUMMARY:Sri Jayadeva Gosvami -- Disappearance
DESCRIPTION:
URL:https://iskconnasik.com/event/sri-jayadeva-gosvami-disappearance/
END:VEVENT
BEGIN:VEVENT
DTSTART;TZID=Asia/Kolkata:20250118T000000
DTEND;TZID=Asia/Kolkata:20250118T000000
DTSTAMP:20260425T162036
CREATED:20250501T114453Z
LAST-MODIFIED:20250501T114453Z
UID:500-1737158400-1737158400@iskconnasik.com
SUMMARY:Sri Ramacandra Kaviraja -- Disappearance
DESCRIPTION:
URL:https://iskconnasik.com/event/sri-ramacandra-kaviraja-disappearance/
END:VEVENT
BEGIN:VEVENT
DTSTART;TZID=Asia/Kolkata:20250118T000000
DTEND;TZID=Asia/Kolkata:20250118T000000
DTSTAMP:20260425T162036
CREATED:20250501T114453Z
LAST-MODIFIED:20250501T114453Z
UID:501-1737158400-1737158400@iskconnasik.com
SUMMARY:Srila Gopala Bhatta Gosvami -- Appearance
DESCRIPTION:
URL:https://iskconnasik.com/event/srila-gopala-bhatta-gosvami-appearance/
END:VEVENT
BEGIN:VEVENT
DTSTART;TZID=Asia/Kolkata:20250114T000000
DTEND;TZID=Asia/Kolkata:20250114T000000
DTSTAMP:20260425T162036
CREATED:20250501T114453Z
LAST-MODIFIED:20250501T114453Z
UID:499-1736812800-1736812800@iskconnasik.com
SUMMARY:Ganga Sagara Mela
DESCRIPTION:
URL:https://iskconnasik.com/event/ganga-sagara-mela/
END:VEVENT
BEGIN:VEVENT
DTSTART;TZID=Asia/Kolkata:20250113T000000
DTEND;TZID=Asia/Kolkata:20250113T000000
DTSTAMP:20260425T162036
CREATED:20250501T114453Z
LAST-MODIFIED:20250501T114453Z
UID:498-1736726400-1736726400@iskconnasik.com
SUMMARY:Sri Krsna Pusya Abhiseka
DESCRIPTION:
URL:https://iskconnasik.com/event/sri-krsna-pusya-abhiseka/
END:VEVENT
BEGIN:VEVENT
DTSTART;TZID=Asia/Kolkata:20250111T000000
DTEND;TZID=Asia/Kolkata:20250111T000000
DTSTAMP:20260425T162036
CREATED:20250501T114452Z
LAST-MODIFIED:20250501T114452Z
UID:497-1736553600-1736553600@iskconnasik.com
SUMMARY:Sri Jagadisa Pandita -- Appearance
DESCRIPTION:
URL:https://iskconnasik.com/event/sri-jagadisa-pandita-appearance/
END:VEVENT
BEGIN:VEVENT
DTSTART;TZID=Asia/Kolkata:20250111T000000
DTEND;TZID=Asia/Kolkata:20250111T000000
DTSTAMP:20260425T162036
CREATED:20250501T114452Z
LAST-MODIFIED:20250501T114452Z
UID:496-1736553600-1736553600@iskconnasik.com
SUMMARY:Break fast 06:53 (sunrise) - 08:23 (end of tithi) LT
DESCRIPTION:
URL:https://iskconnasik.com/event/break-fast-0653-sunrise-0823-end-of-tithi-lt/
END:VEVENT
BEGIN:VEVENT
DTSTART;TZID=Asia/Kolkata:20250110T000000
DTEND;TZID=Asia/Kolkata:20250110T000000
DTSTAMP:20260425T162036
CREATED:20250501T114452Z
LAST-MODIFIED:20250501T114452Z
UID:495-1736467200-1736467200@iskconnasik.com
SUMMARY:Fasting for Putrada Ekadasi
DESCRIPTION:
URL:https://iskconnasik.com/event/fasting-for-putrada-ekadasi/
END:VEVENT
BEGIN:VEVENT
DTSTART;TZID=Asia/Kolkata:20250102T000000
DTEND;TZID=Asia/Kolkata:20250102T000000
DTSTAMP:20260425T162036
CREATED:20250501T114452Z
LAST-MODIFIED:20250501T114452Z
UID:493-1735776000-1735776000@iskconnasik.com
SUMMARY:Srila Jiva Gosvami -- Disappearance
DESCRIPTION:
URL:https://iskconnasik.com/event/srila-jiva-gosvami-disappearance/
END:VEVENT
BEGIN:VEVENT
DTSTART;TZID=Asia/Kolkata:20250102T000000
DTEND;TZID=Asia/Kolkata:20250102T000000
DTSTAMP:20260425T162036
CREATED:20250501T114452Z
LAST-MODIFIED:20250501T114452Z
UID:494-1735776000-1735776000@iskconnasik.com
SUMMARY:Sri Jagadisa Pandita -- Disappearance
DESCRIPTION:
URL:https://iskconnasik.com/event/sri-jagadisa-pandita-disappearance/
END:VEVENT
BEGIN:VEVENT
DTSTART;TZID=Asia/Kolkata:20260425T162036
DTEND;TZID=Asia/Kolkata:20260425T162036
DTSTAMP:20260425T162036
CREATED:20260120T114459Z
LAST-MODIFIED:20260120T114459Z
UID:974-0-0@iskconnasik.com
SUMMARY: End of Jala Dana
DESCRIPTION:
URL:https://iskconnasik.com/event/end-of-jala-dana/
END:VEVENT
BEGIN:VEVENT
DTSTART;TZID=Asia/Kolkata:20260425T162036
DTEND;TZID=Asia/Kolkata:20260425T162036
DTSTAMP:20260425T162036
CREATED:20260120T114258Z
LAST-MODIFIED:20260120T114258Z
UID:971-0-0@iskconnasik.com
SUMMARY: Disappearance Day of Sri Ramananda Raya
DESCRIPTION:
URL:https://iskconnasik.com/event/disappearance-day-of-sri-ramananda-raya/
END:VEVENT
BEGIN:VEVENT
DTSTART;TZID=Asia/Kolkata:20260425T162036
DTEND;TZID=Asia/Kolkata:20260425T162036
DTSTAMP:20260425T162036
CREATED:20260120T113335Z
LAST-MODIFIED:20260120T113335Z
UID:939-0-0@iskconnasik.com
SUMMARY: Appearance Day of Sri Srivasa Pandita
DESCRIPTION:
URL:https://iskconnasik.com/event/appearance-day-of-sri-srivasa-pandita/
END:VEVENT
BEGIN:VEVENT
DTSTART;TZID=Asia/Kolkata:20260425T162036
DTEND;TZID=Asia/Kolkata:20260425T162036
DTSTAMP:20260425T162036
CREATED:20260120T113335Z
LAST-MODIFIED:20260120T113335Z
UID:940-0-0@iskconnasik.com
SUMMARY: Papamochani Ekadashi
DESCRIPTION:
URL:https://iskconnasik.com/event/papamochani-ekadashi/
END:VEVENT
BEGIN:VEVENT
DTSTART;TZID=Asia/Kolkata:20260425T162036
DTEND;TZID=Asia/Kolkata:20260425T162036
DTSTAMP:20260425T162036
CREATED:20260120T113335Z
LAST-MODIFIED:20260120T113335Z
UID:941-0-0@iskconnasik.com
SUMMARY: Disappearance Day of Sri Govinda Ghosh
DESCRIPTION:
URL:https://iskconnasik.com/event/disappearance-day-of-sri-govinda-ghosh/
END:VEVENT
BEGIN:VEVENT
DTSTART;TZID=Asia/Kolkata:20260425T162036
DTEND;TZID=Asia/Kolkata:20260425T162036
DTSTAMP:20260425T162036
CREATED:20260120T113132Z
LAST-MODIFIED:20260120T113132Z
UID:932-0-0@iskconnasik.com
SUMMARY: Disappearance Day of Srila Jagannatha Dasa Babaji
DESCRIPTION:
URL:https://iskconnasik.com/event/disappearance-day-of-srila-jagannatha-dasa-babaji/
END:VEVENT
BEGIN:VEVENT
DTSTART;TZID=Asia/Kolkata:20260425T162036
DTEND;TZID=Asia/Kolkata:20260425T162036
DTSTAMP:20260425T162036
CREATED:20260120T113132Z
LAST-MODIFIED:20260120T113132Z
UID:933-0-0@iskconnasik.com
SUMMARY: Disappearance Day of Sri Rasikananda
DESCRIPTION:
URL:https://iskconnasik.com/event/disappearance-day-of-sri-rasikananda/
END:VEVENT
BEGIN:VEVENT
DTSTART;TZID=Asia/Kolkata:20260425T162036
DTEND;TZID=Asia/Kolkata:20260425T162036
DTSTAMP:20260425T162036
CREATED:20260120T113117Z
LAST-MODIFIED:20260120T113117Z
UID:929-0-0@iskconnasik.com
SUMMARY: Vijaya Ekadashi
DESCRIPTION:
URL:https://iskconnasik.com/event/vijaya-ekadashi/
END:VEVENT
BEGIN:VEVENT
DTSTART;TZID=Asia/Kolkata:20260425T162036
DTEND;TZID=Asia/Kolkata:20260425T162036
DTSTAMP:20260425T162036
CREATED:20260120T113117Z
LAST-MODIFIED:20260120T113117Z
UID:930-0-0@iskconnasik.com
SUMMARY: Disappearance Day of Sri Isvara Puri
DESCRIPTION:
URL:https://iskconnasik.com/event/disappearance-day-of-sri-isvara-puri/
END:VEVENT
END:VCALENDAR