BEGIN:VCALENDAR
VERSION:2.0
PRODID:-//ISKCON Nashik - ECPv6.11.2.1//NONSGML v1.0//EN
CALSCALE:GREGORIAN
METHOD:PUBLISH
X-WR-CALNAME:ISKCON Nashik
X-ORIGINAL-URL:https://iskconnasik.com
X-WR-CALDESC:Events for ISKCON Nashik
REFRESH-INTERVAL;VALUE=DURATION:PT1H
X-Robots-Tag:noindex
X-PUBLISHED-TTL:PT1H

BEGIN:VEVENT
DTSTART;TZID=Asia/Kolkata:20260425T175833
DTEND;TZID=Asia/Kolkata:20260425T175833
DTSTAMP:20260425T175833
CREATED:20260120T113117Z
LAST-MODIFIED:20260120T113117Z
UID:930-0-0@iskconnasik.com
SUMMARY: Disappearance Day of Sri Isvara Puri
DESCRIPTION:
URL:https://iskconnasik.com/event/disappearance-day-of-sri-isvara-puri/
END:VEVENT
END:VCALENDAR