BEGIN:VCALENDAR
VERSION:2.0
PRODID:-//ISKCON Nashik - ECPv6.11.2.1//NONSGML v1.0//EN
CALSCALE:GREGORIAN
METHOD:PUBLISH
X-WR-CALNAME:ISKCON Nashik
X-ORIGINAL-URL:https://iskconnasik.com
X-WR-CALDESC:Events for ISKCON Nashik
REFRESH-INTERVAL;VALUE=DURATION:PT1H
X-Robots-Tag:noindex
X-PUBLISHED-TTL:PT1H
BEGIN:VTIMEZONE
TZID:Asia/Kolkata
BEGIN:STANDARD
TZOFFSETFROM:+0530
TZOFFSETTO:+0530
TZNAME:IST
DTSTART:20250101T000000
END:STANDARD
END:VTIMEZONE
BEGIN:VEVENT
DTSTART;TZID=Asia/Kolkata:20250819T000000
DTEND;TZID=Asia/Kolkata:20250819T000000
DTSTAMP:20260425T195550
CREATED:20250501T115140Z
LAST-MODIFIED:20250501T115140Z
UID:640-1755561600-1755561600@iskconnasik.com
SUMMARY:Fasting for Annada Ekadasi
DESCRIPTION:
URL:https://iskconnasik.com/event/fasting-for-annada-ekadasi/
END:VEVENT
BEGIN:VEVENT
DTSTART;TZID=Asia/Kolkata:20250820T000000
DTEND;TZID=Asia/Kolkata:20250820T000000
DTSTAMP:20260425T195550
CREATED:20250501T115140Z
LAST-MODIFIED:20250501T115140Z
UID:641-1755648000-1755648000@iskconnasik.com
SUMMARY:Break fast 05:53 (sunrise) - 10:09 (1/3 of daylight) LT
DESCRIPTION:
URL:https://iskconnasik.com/event/break-fast-0553-sunrise-1009-1-3-of-daylight-lt/
END:VEVENT
BEGIN:VEVENT
DTSTART;TZID=Asia/Kolkata:20250828T000000
DTEND;TZID=Asia/Kolkata:20250828T000000
DTSTAMP:20260425T195550
CREATED:20250501T115140Z
LAST-MODIFIED:20250501T115140Z
UID:642-1756339200-1756339200@iskconnasik.com
SUMMARY:Srimati Sita Thakurani (Sri Advaita\'s consort) -- Appearance
DESCRIPTION:
URL:https://iskconnasik.com/event/srimati-sita-thakurani-sri-advaitas-consort-appearance/
END:VEVENT
BEGIN:VEVENT
DTSTART;TZID=Asia/Kolkata:20250831T000000
DTEND;TZID=Asia/Kolkata:20250831T000000
DTSTAMP:20260425T195550
CREATED:20250501T115155Z
LAST-MODIFIED:20250501T115155Z
UID:643-1756598400-1756598400@iskconnasik.com
SUMMARY:Radhastami: Appearance of Srimati Radharani
DESCRIPTION:
URL:https://iskconnasik.com/event/radhastami-appearance-of-srimati-radharani/
END:VEVENT
BEGIN:VEVENT
DTSTART;TZID=Asia/Kolkata:20250903T000000
DTEND;TZID=Asia/Kolkata:20250903T000000
DTSTAMP:20260425T195550
CREATED:20250501T115155Z
LAST-MODIFIED:20250501T115155Z
UID:644-1756857600-1756857600@iskconnasik.com
SUMMARY:Fasting for Parsva Ekadasi
DESCRIPTION:
URL:https://iskconnasik.com/event/fasting-for-parsva-ekadasi/
END:VEVENT
BEGIN:VEVENT
DTSTART;TZID=Asia/Kolkata:20250903T000000
DTEND;TZID=Asia/Kolkata:20250903T000000
DTSTAMP:20260425T195551
CREATED:20250501T115155Z
LAST-MODIFIED:20250501T115155Z
UID:645-1756857600-1756857600@iskconnasik.com
SUMMARY:(Fast today for Vamanadeva)
DESCRIPTION:
URL:https://iskconnasik.com/event/fast-today-for-vamanadeva/
END:VEVENT
BEGIN:VEVENT
DTSTART;TZID=Asia/Kolkata:20250904T000000
DTEND;TZID=Asia/Kolkata:20250904T000000
DTSTAMP:20260425T195551
CREATED:20250501T115155Z
LAST-MODIFIED:20250501T115155Z
UID:646-1756944000-1756944000@iskconnasik.com
SUMMARY:Break fast after 10:19 (1/4 of tithi) LT
DESCRIPTION:
URL:https://iskconnasik.com/event/break-fast-after-1019-1-4-of-tithi-lt/
END:VEVENT
BEGIN:VEVENT
DTSTART;TZID=Asia/Kolkata:20250904T000000
DTEND;TZID=Asia/Kolkata:20250904T000000
DTSTAMP:20260425T195551
CREATED:20250501T115155Z
LAST-MODIFIED:20250501T115155Z
UID:647-1756944000-1756944000@iskconnasik.com
SUMMARY:Sri Vamana Dvadasi: Appearance of Lord Vamanadeva
DESCRIPTION:
URL:https://iskconnasik.com/event/sri-vamana-dvadasi-appearance-of-lord-vamanadeva/
END:VEVENT
BEGIN:VEVENT
DTSTART;TZID=Asia/Kolkata:20250904T000000
DTEND;TZID=Asia/Kolkata:20250904T000000
DTSTAMP:20260425T195551
CREATED:20250501T115210Z
LAST-MODIFIED:20250501T115210Z
UID:648-1756944000-1756944000@iskconnasik.com
SUMMARY:(Fasting is done yesterday)
DESCRIPTION:
URL:https://iskconnasik.com/event/fasting-is-done-yesterday-2/
END:VEVENT
BEGIN:VEVENT
DTSTART;TZID=Asia/Kolkata:20250904T000000
DTEND;TZID=Asia/Kolkata:20250904T000000
DTSTAMP:20260425T195551
CREATED:20250501T115210Z
LAST-MODIFIED:20250501T115210Z
UID:649-1756944000-1756944000@iskconnasik.com
SUMMARY:Srila Jiva Gosvami -- Appearance
DESCRIPTION:
URL:https://iskconnasik.com/event/srila-jiva-gosvami-appearance/
END:VEVENT
BEGIN:VEVENT
DTSTART;TZID=Asia/Kolkata:20250905T000000
DTEND;TZID=Asia/Kolkata:20250905T000000
DTSTAMP:20260425T195551
CREATED:20250501T115210Z
LAST-MODIFIED:20250501T115210Z
UID:650-1757030400-1757030400@iskconnasik.com
SUMMARY:Srila Bhaktivinoda Thakura -- Appearance
DESCRIPTION:
URL:https://iskconnasik.com/event/srila-bhaktivinoda-thakura-appearance/
END:VEVENT
BEGIN:VEVENT
DTSTART;TZID=Asia/Kolkata:20250906T000000
DTEND;TZID=Asia/Kolkata:20250906T000000
DTSTAMP:20260425T195551
CREATED:20250501T115210Z
LAST-MODIFIED:20250501T115210Z
UID:651-1757116800-1757116800@iskconnasik.com
SUMMARY:Ananta Caturdasi Vrata
DESCRIPTION:
URL:https://iskconnasik.com/event/ananta-caturdasi-vrata/
END:VEVENT
BEGIN:VEVENT
DTSTART;TZID=Asia/Kolkata:20250906T000000
DTEND;TZID=Asia/Kolkata:20250906T000000
DTSTAMP:20260425T195551
CREATED:20250501T115210Z
LAST-MODIFIED:20250501T115210Z
UID:652-1757116800-1757116800@iskconnasik.com
SUMMARY:Srila Haridasa Thakura -- Disappearance
DESCRIPTION:
URL:https://iskconnasik.com/event/srila-haridasa-thakura-disappearance/
END:VEVENT
BEGIN:VEVENT
DTSTART;TZID=Asia/Kolkata:20250906T000000
DTEND;TZID=Asia/Kolkata:20250906T000000
DTSTAMP:20260425T195551
CREATED:20250501T115225Z
LAST-MODIFIED:20250501T115225Z
UID:653-1757116800-1757116800@iskconnasik.com
SUMMARY:Last day of the second Caturmasya month [PURNIMA SYSTEM]
DESCRIPTION:
URL:https://iskconnasik.com/event/last-day-of-the-second-caturmasya-month-purnima-system/
END:VEVENT
BEGIN:VEVENT
DTSTART;TZID=Asia/Kolkata:20250907T000000
DTEND;TZID=Asia/Kolkata:20250907T000000
DTSTAMP:20260425T195551
CREATED:20250501T115225Z
LAST-MODIFIED:20250501T115225Z
UID:657-1757203200-1757203200@iskconnasik.com
SUMMARY:Third month of Caturmasya begins [PURNIMA SYSTEM]
DESCRIPTION:
URL:https://iskconnasik.com/event/third-month-of-caturmasya-begins-purnima-system/
END:VEVENT
BEGIN:VEVENT
DTSTART;TZID=Asia/Kolkata:20250907T000000
DTEND;TZID=Asia/Kolkata:20250907T000000
DTSTAMP:20260425T195551
CREATED:20250501T115225Z
LAST-MODIFIED:20250501T115225Z
UID:654-1757203200-1757203200@iskconnasik.com
SUMMARY:Sri Visvarupa Mahotsava
DESCRIPTION:
URL:https://iskconnasik.com/event/sri-visvarupa-mahotsava/
END:VEVENT
BEGIN:VEVENT
DTSTART;TZID=Asia/Kolkata:20250907T000000
DTEND;TZID=Asia/Kolkata:20250907T000000
DTSTAMP:20260425T195551
CREATED:20250501T115225Z
LAST-MODIFIED:20250501T115225Z
UID:655-1757203200-1757203200@iskconnasik.com
SUMMARY:Bhadra Purnima
DESCRIPTION:
URL:https://iskconnasik.com/event/bhadra-purnima/
END:VEVENT
BEGIN:VEVENT
DTSTART;TZID=Asia/Kolkata:20250907T000000
DTEND;TZID=Asia/Kolkata:20250907T000000
DTSTAMP:20260425T195551
CREATED:20250501T115225Z
LAST-MODIFIED:20250501T115225Z
UID:656-1757203200-1757203200@iskconnasik.com
SUMMARY:Acceptance of sannyasa by Srila Prabhupada
DESCRIPTION:
URL:https://iskconnasik.com/event/acceptance-of-sannyasa-by-srila-prabhupada/
END:VEVENT
BEGIN:VEVENT
DTSTART;TZID=Asia/Kolkata:20250907T000000
DTEND;TZID=Asia/Kolkata:20250907T000000
DTSTAMP:20260425T195551
CREATED:20250501T115240Z
LAST-MODIFIED:20250501T115240Z
UID:658-1757203200-1757203200@iskconnasik.com
SUMMARY:(milk fast for one month)
DESCRIPTION:
URL:https://iskconnasik.com/event/milk-fast-for-one-month/
END:VEVENT
BEGIN:VEVENT
DTSTART;TZID=Asia/Kolkata:20250914T000000
DTEND;TZID=Asia/Kolkata:20250914T000000
DTSTAMP:20260425T195551
CREATED:20250501T115240Z
LAST-MODIFIED:20250501T115240Z
UID:659-1757808000-1757808000@iskconnasik.com
SUMMARY:Srila Prabhupada\'s arrival in the USA
DESCRIPTION:
URL:https://iskconnasik.com/event/srila-prabhupadas-arrival-in-the-usa/
END:VEVENT
BEGIN:VEVENT
DTSTART;TZID=Asia/Kolkata:20250917T000000
DTEND;TZID=Asia/Kolkata:20250917T000000
DTSTAMP:20260425T195551
CREATED:20250501T115240Z
LAST-MODIFIED:20250501T115240Z
UID:660-1758067200-1758067200@iskconnasik.com
SUMMARY:Fasting for Indira Ekadasi
DESCRIPTION:
URL:https://iskconnasik.com/event/fasting-for-indira-ekadasi/
END:VEVENT
BEGIN:VEVENT
DTSTART;TZID=Asia/Kolkata:20250918T000000
DTEND;TZID=Asia/Kolkata:20250918T000000
DTSTAMP:20260425T195551
CREATED:20250501T115240Z
LAST-MODIFIED:20250501T115240Z
UID:661-1758153600-1758153600@iskconnasik.com
SUMMARY:Break fast 06:01 (sunrise) - 10:05 (1/3 of daylight) LT
DESCRIPTION:
URL:https://iskconnasik.com/event/break-fast-0601-sunrise-1005-1-3-of-daylight-lt/
END:VEVENT
BEGIN:VEVENT
DTSTART;TZID=Asia/Kolkata:20251002T000000
DTEND;TZID=Asia/Kolkata:20251002T000000
DTSTAMP:20260425T195551
CREATED:20250501T115240Z
LAST-MODIFIED:20250501T115240Z
UID:662-1759363200-1759363200@iskconnasik.com
SUMMARY:Ramacandra Vijayotsava
DESCRIPTION:
URL:https://iskconnasik.com/event/ramacandra-vijayotsava/
END:VEVENT
BEGIN:VEVENT
DTSTART;TZID=Asia/Kolkata:20251002T000000
DTEND;TZID=Asia/Kolkata:20251002T000000
DTSTAMP:20260425T195551
CREATED:20250501T115255Z
LAST-MODIFIED:20250501T115255Z
UID:663-1759363200-1759363200@iskconnasik.com
SUMMARY:Sri Madhvacarya -- Appearance
DESCRIPTION:
URL:https://iskconnasik.com/event/sri-madhvacarya-appearance/
END:VEVENT
BEGIN:VEVENT
DTSTART;TZID=Asia/Kolkata:20251003T000000
DTEND;TZID=Asia/Kolkata:20251003T000000
DTSTAMP:20260425T195551
CREATED:20250501T115255Z
LAST-MODIFIED:20250501T115255Z
UID:664-1759449600-1759449600@iskconnasik.com
SUMMARY:Fasting for Pasankusa Ekadasi
DESCRIPTION:
URL:https://iskconnasik.com/event/fasting-for-pasankusa-ekadasi/
END:VEVENT
BEGIN:VEVENT
DTSTART;TZID=Asia/Kolkata:20251004T000000
DTEND;TZID=Asia/Kolkata:20251004T000000
DTSTAMP:20260425T195551
CREATED:20250501T115255Z
LAST-MODIFIED:20250501T115255Z
UID:667-1759536000-1759536000@iskconnasik.com
SUMMARY:Srila Raghunatha Bhatta Gosvami -- Disappearance
DESCRIPTION:
URL:https://iskconnasik.com/event/srila-raghunatha-bhatta-gosvami-disappearance/
END:VEVENT
BEGIN:VEVENT
DTSTART;TZID=Asia/Kolkata:20251004T000000
DTEND;TZID=Asia/Kolkata:20251004T000000
DTSTAMP:20260425T195551
CREATED:20250501T115255Z
LAST-MODIFIED:20250501T115255Z
UID:665-1759536000-1759536000@iskconnasik.com
SUMMARY:Break fast 06:05 (sunrise) - 10:03 (1/3 of daylight) LT
DESCRIPTION:
URL:https://iskconnasik.com/event/break-fast-0605-sunrise-1003-1-3-of-daylight-lt/
END:VEVENT
BEGIN:VEVENT
DTSTART;TZID=Asia/Kolkata:20251004T000000
DTEND;TZID=Asia/Kolkata:20251004T000000
DTSTAMP:20260425T195551
CREATED:20250501T115255Z
LAST-MODIFIED:20250501T115255Z
UID:666-1759536000-1759536000@iskconnasik.com
SUMMARY:Srila Raghunatha Dasa Gosvami -- Disappearance
DESCRIPTION:
URL:https://iskconnasik.com/event/srila-raghunatha-dasa-gosvami-disappearance/
END:VEVENT
BEGIN:VEVENT
DTSTART;TZID=Asia/Kolkata:20251004T000000
DTEND;TZID=Asia/Kolkata:20251004T000000
DTSTAMP:20260425T195551
CREATED:20250501T115310Z
LAST-MODIFIED:20250501T115310Z
UID:668-1759536000-1759536000@iskconnasik.com
SUMMARY:Srila Krsnadasa Kaviraja Gosvami -- Disappearance
DESCRIPTION:
URL:https://iskconnasik.com/event/srila-krsnadasa-kaviraja-gosvami-disappearance/
END:VEVENT
BEGIN:VEVENT
DTSTART;TZID=Asia/Kolkata:20251006T000000
DTEND;TZID=Asia/Kolkata:20251006T000000
DTSTAMP:20260425T195551
CREATED:20250501T115310Z
LAST-MODIFIED:20250501T115310Z
UID:669-1759708800-1759708800@iskconnasik.com
SUMMARY:Last day of the third Caturmasya month [PURNIMA SYSTEM]
DESCRIPTION:
URL:https://iskconnasik.com/event/last-day-of-the-third-caturmasya-month-purnima-system/
END:VEVENT
END:VCALENDAR