BEGIN:VCALENDAR
VERSION:2.0
PRODID:-//ISKCON Nashik - ECPv6.11.2.1//NONSGML v1.0//EN
CALSCALE:GREGORIAN
METHOD:PUBLISH
X-WR-CALNAME:ISKCON Nashik
X-ORIGINAL-URL:https://iskconnasik.com
X-WR-CALDESC:Events for ISKCON Nashik
REFRESH-INTERVAL;VALUE=DURATION:PT1H
X-Robots-Tag:noindex
X-PUBLISHED-TTL:PT1H
BEGIN:VTIMEZONE
TZID:Asia/Kolkata
BEGIN:STANDARD
TZOFFSETFROM:+0530
TZOFFSETTO:+0530
TZNAME:IST
DTSTART:20250101T000000
END:STANDARD
END:VTIMEZONE
BEGIN:VEVENT
DTSTART;TZID=Asia/Kolkata:20251217T000000
DTEND;TZID=Asia/Kolkata:20251217T000000
DTSTAMP:20260424T054839
CREATED:20250501T115545Z
LAST-MODIFIED:20250501T115545Z
UID:719-1765929600-1765929600@iskconnasik.com
SUMMARY:Sri Uddharana Datta Thakura -- Disappearance
DESCRIPTION:
URL:https://iskconnasik.com/event/sri-uddharana-datta-thakura-disappearance/
END:VEVENT
BEGIN:VEVENT
DTSTART;TZID=Asia/Kolkata:20251217T000000
DTEND;TZID=Asia/Kolkata:20251217T000000
DTSTAMP:20260424T054839
CREATED:20250501T115530Z
LAST-MODIFIED:20250501T115530Z
UID:717-1765929600-1765929600@iskconnasik.com
SUMMARY:Break fast 06:44 (sunrise) - 10:21 (1/3 of daylight) LT
DESCRIPTION:
URL:https://iskconnasik.com/event/break-fast-0644-sunrise-1021-1-3-of-daylight-lt/
END:VEVENT
BEGIN:VEVENT
DTSTART;TZID=Asia/Kolkata:20251216T000000
DTEND;TZID=Asia/Kolkata:20251216T000000
DTSTAMP:20260424T054839
CREATED:20250501T115530Z
LAST-MODIFIED:20250501T115530Z
UID:716-1765843200-1765843200@iskconnasik.com
SUMMARY:--------- Dhanus Sankranti (Sun enters Sagittarius on 16 Dec\, 04:10 LT) ---------
DESCRIPTION:
URL:https://iskconnasik.com/event/dhanus-sankranti-sun-enters-sagittarius-on-16-dec-0410-lt/
END:VEVENT
BEGIN:VEVENT
DTSTART;TZID=Asia/Kolkata:20251216T000000
DTEND;TZID=Asia/Kolkata:20251216T000000
DTSTAMP:20260424T054839
CREATED:20250501T115530Z
LAST-MODIFIED:20250501T115530Z
UID:714-1765843200-1765843200@iskconnasik.com
SUMMARY:Paksa vardhini Mahadvadasi
DESCRIPTION:
URL:https://iskconnasik.com/event/paksa-vardhini-mahadvadasi/
END:VEVENT
BEGIN:VEVENT
DTSTART;TZID=Asia/Kolkata:20251216T000000
DTEND;TZID=Asia/Kolkata:20251216T000000
DTSTAMP:20260424T054839
CREATED:20250501T115530Z
LAST-MODIFIED:20250501T115530Z
UID:715-1765843200-1765843200@iskconnasik.com
SUMMARY:Fasting for Saphala Ekadasi
DESCRIPTION:
URL:https://iskconnasik.com/event/fasting-for-saphala-ekadasi/
END:VEVENT
BEGIN:VEVENT
DTSTART;TZID=Asia/Kolkata:20251215T000000
DTEND;TZID=Asia/Kolkata:20251215T000000
DTSTAMP:20260424T054839
CREATED:20250501T115530Z
LAST-MODIFIED:20250501T115530Z
UID:713-1765756800-1765756800@iskconnasik.com
SUMMARY:Sri Devananda Pandita -- Disappearance
DESCRIPTION:
URL:https://iskconnasik.com/event/sri-devananda-pandita-disappearance/
END:VEVENT
BEGIN:VEVENT
DTSTART;TZID=Asia/Kolkata:20251208T000000
DTEND;TZID=Asia/Kolkata:20251208T000000
DTSTAMP:20260424T054839
CREATED:20250501T115515Z
LAST-MODIFIED:20250501T115515Z
UID:712-1765152000-1765152000@iskconnasik.com
SUMMARY:Srila Bhaktisiddhanta Sarasvati Thakura -- Disappearance
DESCRIPTION:
URL:https://iskconnasik.com/event/srila-bhaktisiddhanta-sarasvati-thakura-disappearance/
END:VEVENT
BEGIN:VEVENT
DTSTART;TZID=Asia/Kolkata:20251205T000000
DTEND;TZID=Asia/Kolkata:20251205T000000
DTSTAMP:20260424T054839
CREATED:20250501T115515Z
LAST-MODIFIED:20250501T115515Z
UID:711-1764892800-1764892800@iskconnasik.com
SUMMARY:Katyayani vrata ends
DESCRIPTION:
URL:https://iskconnasik.com/event/katyayani-vrata-ends/
END:VEVENT
BEGIN:VEVENT
DTSTART;TZID=Asia/Kolkata:20251202T000000
DTEND;TZID=Asia/Kolkata:20251202T000000
DTSTAMP:20260424T054839
CREATED:20250501T115515Z
LAST-MODIFIED:20250501T115515Z
UID:710-1764633600-1764633600@iskconnasik.com
SUMMARY:Break fast 06:34 (sunrise) - 10:13 (1/3 of daylight) LT
DESCRIPTION:
URL:https://iskconnasik.com/event/break-fast-0634-sunrise-1013-1-3-of-daylight-lt/
END:VEVENT
BEGIN:VEVENT
DTSTART;TZID=Asia/Kolkata:20251201T000000
DTEND;TZID=Asia/Kolkata:20251201T000000
DTSTAMP:20260424T054839
CREATED:20250501T115515Z
LAST-MODIFIED:20250501T115515Z
UID:708-1764547200-1764547200@iskconnasik.com
SUMMARY:Fasting for Moksada Ekadasi
DESCRIPTION:
URL:https://iskconnasik.com/event/fasting-for-moksada-ekadasi/
END:VEVENT
BEGIN:VEVENT
DTSTART;TZID=Asia/Kolkata:20251201T000000
DTEND;TZID=Asia/Kolkata:20251201T000000
DTSTAMP:20260424T054839
CREATED:20250501T115515Z
LAST-MODIFIED:20250501T115515Z
UID:709-1764547200-1764547200@iskconnasik.com
SUMMARY:Advent of Srimad Bhagavad-gita
DESCRIPTION:
URL:https://iskconnasik.com/event/advent-of-srimad-bhagavad-gita/
END:VEVENT
BEGIN:VEVENT
DTSTART;TZID=Asia/Kolkata:20251126T000000
DTEND;TZID=Asia/Kolkata:20251126T000000
DTSTAMP:20260424T054839
CREATED:20250501T115500Z
LAST-MODIFIED:20250501T115500Z
UID:707-1764115200-1764115200@iskconnasik.com
SUMMARY:Odana sasthi
DESCRIPTION:
URL:https://iskconnasik.com/event/odana-sasthi/
END:VEVENT
BEGIN:VEVENT
DTSTART;TZID=Asia/Kolkata:20251117T000000
DTEND;TZID=Asia/Kolkata:20251117T000000
DTSTAMP:20260424T054839
CREATED:20250501T115500Z
LAST-MODIFIED:20250501T115500Z
UID:706-1763337600-1763337600@iskconnasik.com
SUMMARY:Sri Saranga Thakura -- Disappearance
DESCRIPTION:
URL:https://iskconnasik.com/event/sri-saranga-thakura-disappearance/
END:VEVENT
BEGIN:VEVENT
DTSTART;TZID=Asia/Kolkata:20251116T000000
DTEND;TZID=Asia/Kolkata:20251116T000000
DTSTAMP:20260424T054839
CREATED:20250501T115500Z
LAST-MODIFIED:20250501T115500Z
UID:705-1763251200-1763251200@iskconnasik.com
SUMMARY:Sri Kaliya Krsnadasa -- Disappearance
DESCRIPTION:
URL:https://iskconnasik.com/event/sri-kaliya-krsnadasa-disappearance/
END:VEVENT
BEGIN:VEVENT
DTSTART;TZID=Asia/Kolkata:20251116T000000
DTEND;TZID=Asia/Kolkata:20251116T000000
DTSTAMP:20260424T054839
CREATED:20250501T115500Z
LAST-MODIFIED:20250501T115500Z
UID:704-1763251200-1763251200@iskconnasik.com
SUMMARY:Break fast 09:11 (1/4 of tithi) - 10:07 (1/3 of daylight) LT
DESCRIPTION:
URL:https://iskconnasik.com/event/break-fast-0911-1-4-of-tithi-1007-1-3-of-daylight-lt/
END:VEVENT
BEGIN:VEVENT
DTSTART;TZID=Asia/Kolkata:20251115T000000
DTEND;TZID=Asia/Kolkata:20251115T000000
DTSTAMP:20260424T054839
CREATED:20250501T115500Z
LAST-MODIFIED:20250501T115500Z
UID:703-1763164800-1763164800@iskconnasik.com
SUMMARY:Sri Narahari Sarakara Thakura -- Disappearance
DESCRIPTION:
URL:https://iskconnasik.com/event/sri-narahari-sarakara-thakura-disappearance/
END:VEVENT
BEGIN:VEVENT
DTSTART;TZID=Asia/Kolkata:20251115T000000
DTEND;TZID=Asia/Kolkata:20251115T000000
DTSTAMP:20260424T054839
CREATED:20250501T115459Z
LAST-MODIFIED:20250501T115459Z
UID:702-1763164800-1763164800@iskconnasik.com
SUMMARY:Fasting for Utpanna Ekadasi
DESCRIPTION:
URL:https://iskconnasik.com/event/fasting-for-utpanna-ekadasi/
END:VEVENT
BEGIN:VEVENT
DTSTART;TZID=Asia/Kolkata:20251106T000000
DTEND;TZID=Asia/Kolkata:20251106T000000
DTSTAMP:20260424T054839
CREATED:20250501T115459Z
LAST-MODIFIED:20250501T115459Z
UID:701-1762387200-1762387200@iskconnasik.com
SUMMARY:Katyayani vrata begins
DESCRIPTION:
URL:https://iskconnasik.com/event/katyayani-vrata-begins/
END:VEVENT
BEGIN:VEVENT
DTSTART;TZID=Asia/Kolkata:20251105T000000
DTEND;TZID=Asia/Kolkata:20251105T000000
DTSTAMP:20260424T054839
CREATED:20250501T115459Z
LAST-MODIFIED:20250501T115459Z
UID:700-1762300800-1762300800@iskconnasik.com
SUMMARY:Last day of Bhisma Pancaka
DESCRIPTION:
URL:https://iskconnasik.com/event/last-day-of-bhisma-pancaka/
END:VEVENT
BEGIN:VEVENT
DTSTART;TZID=Asia/Kolkata:20251105T000000
DTEND;TZID=Asia/Kolkata:20251105T000000
DTSTAMP:20260424T054839
CREATED:20250501T115459Z
LAST-MODIFIED:20250501T115459Z
UID:698-1762300800-1762300800@iskconnasik.com
SUMMARY:Tulasi-Saligrama Vivaha (marriage)
DESCRIPTION:
URL:https://iskconnasik.com/event/tulasi-saligrama-vivaha-marriage/
END:VEVENT
BEGIN:VEVENT
DTSTART;TZID=Asia/Kolkata:20251105T000000
DTEND;TZID=Asia/Kolkata:20251105T000000
DTSTAMP:20260424T054839
CREATED:20250501T115459Z
LAST-MODIFIED:20250501T115459Z
UID:699-1762300800-1762300800@iskconnasik.com
SUMMARY:Sri Nimbarkacarya -- Appearance
DESCRIPTION:
URL:https://iskconnasik.com/event/sri-nimbarkacarya-appearance/
END:VEVENT
BEGIN:VEVENT
DTSTART;TZID=Asia/Kolkata:20251105T000000
DTEND;TZID=Asia/Kolkata:20251105T000000
DTSTAMP:20260424T054839
CREATED:20250501T115425Z
LAST-MODIFIED:20250501T115425Z
UID:697-1762300800-1762300800@iskconnasik.com
SUMMARY:Sri Krsna Rasayatra
DESCRIPTION:
URL:https://iskconnasik.com/event/sri-krsna-rasayatra/
END:VEVENT
BEGIN:VEVENT
DTSTART;TZID=Asia/Kolkata:20251104T000000
DTEND;TZID=Asia/Kolkata:20251104T000000
DTSTAMP:20260424T054839
CREATED:20250501T115425Z
LAST-MODIFIED:20250501T115425Z
UID:695-1762214400-1762214400@iskconnasik.com
SUMMARY:Sri Kasisvara Pandita -- Disappearance
DESCRIPTION:
URL:https://iskconnasik.com/event/sri-kasisvara-pandita-disappearance/
END:VEVENT
BEGIN:VEVENT
DTSTART;TZID=Asia/Kolkata:20251104T000000
DTEND;TZID=Asia/Kolkata:20251104T000000
DTSTAMP:20260424T054839
CREATED:20250501T115425Z
LAST-MODIFIED:20250501T115425Z
UID:696-1762214400-1762214400@iskconnasik.com
SUMMARY:Last day of the fourth Caturmasya month [PURNIMA SYSTEM]
DESCRIPTION:
URL:https://iskconnasik.com/event/last-day-of-the-fourth-caturmasya-month-purnima-system/
END:VEVENT
BEGIN:VEVENT
DTSTART;TZID=Asia/Kolkata:20251104T000000
DTEND;TZID=Asia/Kolkata:20251104T000000
DTSTAMP:20260424T054839
CREATED:20250501T115425Z
LAST-MODIFIED:20250501T115425Z
UID:694-1762214400-1762214400@iskconnasik.com
SUMMARY:Sri Bhugarbha Gosvami -- Disappearance
DESCRIPTION:
URL:https://iskconnasik.com/event/sri-bhugarbha-gosvami-disappearance/
END:VEVENT
BEGIN:VEVENT
DTSTART;TZID=Asia/Kolkata:20251103T000000
DTEND;TZID=Asia/Kolkata:20251103T000000
DTSTAMP:20260424T054839
CREATED:20250501T115425Z
LAST-MODIFIED:20250501T115425Z
UID:693-1762128000-1762128000@iskconnasik.com
SUMMARY:Break fast 06:17 (sunrise) - 10:03 (1/3 of daylight) LT
DESCRIPTION:
URL:https://iskconnasik.com/event/break-fast-0617-sunrise-1003-1-3-of-daylight-lt/
END:VEVENT
BEGIN:VEVENT
DTSTART;TZID=Asia/Kolkata:20251102T000000
DTEND;TZID=Asia/Kolkata:20251102T000000
DTSTAMP:20260424T054839
CREATED:20250501T115410Z
LAST-MODIFIED:20250501T115410Z
UID:689-1762041600-1762041600@iskconnasik.com
SUMMARY:Trisprsa Mahadvadasi
DESCRIPTION:
URL:https://iskconnasik.com/event/trisprsa-mahadvadasi/
END:VEVENT
BEGIN:VEVENT
DTSTART;TZID=Asia/Kolkata:20251102T000000
DTEND;TZID=Asia/Kolkata:20251102T000000
DTSTAMP:20260424T054839
CREATED:20250501T115410Z
LAST-MODIFIED:20250501T115410Z
UID:690-1762041600-1762041600@iskconnasik.com
SUMMARY:Fasting for Utthana Ekadasi
DESCRIPTION:
URL:https://iskconnasik.com/event/fasting-for-utthana-ekadasi/
END:VEVENT
BEGIN:VEVENT
DTSTART;TZID=Asia/Kolkata:20251102T000000
DTEND;TZID=Asia/Kolkata:20251102T000000
DTSTAMP:20260424T054839
CREATED:20250501T115410Z
LAST-MODIFIED:20250501T115410Z
UID:691-1762041600-1762041600@iskconnasik.com
SUMMARY:Srila Gaura Kisora Dasa Babaji -- Disappearance
DESCRIPTION:
URL:https://iskconnasik.com/event/srila-gaura-kisora-dasa-babaji-disappearance/
END:VEVENT
BEGIN:VEVENT
DTSTART;TZID=Asia/Kolkata:20251102T000000
DTEND;TZID=Asia/Kolkata:20251102T000000
DTSTAMP:20260424T054839
CREATED:20250501T115410Z
LAST-MODIFIED:20250501T115410Z
UID:692-1762041600-1762041600@iskconnasik.com
SUMMARY:First day of Bhisma Pancaka
DESCRIPTION:
URL:https://iskconnasik.com/event/first-day-of-bhisma-pancaka/
END:VEVENT
END:VCALENDAR