BEGIN:VCALENDAR
VERSION:2.0
PRODID:-//ISKCON Nashik - ECPv6.11.2.1//NONSGML v1.0//EN
CALSCALE:GREGORIAN
METHOD:PUBLISH
X-WR-CALNAME:ISKCON Nashik
X-ORIGINAL-URL:https://iskconnasik.com
X-WR-CALDESC:Events for ISKCON Nashik
REFRESH-INTERVAL;VALUE=DURATION:PT1H
X-Robots-Tag:noindex
X-PUBLISHED-TTL:PT1H
BEGIN:VTIMEZONE
TZID:Asia/Kolkata
BEGIN:STANDARD
TZOFFSETFROM:+0530
TZOFFSETTO:+0530
TZNAME:IST
DTSTART:20250101T000000
END:STANDARD
END:VTIMEZONE
BEGIN:VEVENT
DTSTART;TZID=Asia/Kolkata:20250303T000000
DTEND;TZID=Asia/Kolkata:20250303T000000
DTSTAMP:20260425T183040
CREATED:20250501T114640Z
LAST-MODIFIED:20250501T114640Z
UID:539-1740960000-1740960000@iskconnasik.com
SUMMARY:Sri Purusottama Dasa Thakura -- Appearance
DESCRIPTION:
URL:https://iskconnasik.com/event/sri-purusottama-dasa-thakura-appearance/
END:VEVENT
BEGIN:VEVENT
DTSTART;TZID=Asia/Kolkata:20250310T000000
DTEND;TZID=Asia/Kolkata:20250310T000000
DTSTAMP:20260425T183040
CREATED:20250501T114640Z
LAST-MODIFIED:20250501T114640Z
UID:540-1741564800-1741564800@iskconnasik.com
SUMMARY:Fasting for Amalaki vrata Ekadasi
DESCRIPTION:
URL:https://iskconnasik.com/event/fasting-for-amalaki-vrata-ekadasi/
END:VEVENT
BEGIN:VEVENT
DTSTART;TZID=Asia/Kolkata:20250311T000000
DTEND;TZID=Asia/Kolkata:20250311T000000
DTSTAMP:20260425T183040
CREATED:20250501T114640Z
LAST-MODIFIED:20250501T114640Z
UID:542-1741651200-1741651200@iskconnasik.com
SUMMARY:Sri Madhavendra Puri -- Disappearance
DESCRIPTION:
URL:https://iskconnasik.com/event/sri-madhavendra-puri-disappearance/
END:VEVENT
BEGIN:VEVENT
DTSTART;TZID=Asia/Kolkata:20250311T000000
DTEND;TZID=Asia/Kolkata:20250311T000000
DTSTAMP:20260425T183040
CREATED:20250501T114640Z
LAST-MODIFIED:20250501T114640Z
UID:541-1741651200-1741651200@iskconnasik.com
SUMMARY:Break fast 06:25 (sunrise) - 08:16 (end of tithi) LT
DESCRIPTION:
URL:https://iskconnasik.com/event/break-fast-0625-sunrise-0816-end-of-tithi-lt/
END:VEVENT
BEGIN:VEVENT
DTSTART;TZID=Asia/Kolkata:20250314T000000
DTEND;TZID=Asia/Kolkata:20250314T000000
DTSTAMP:20260425T183040
CREATED:20250501T114654Z
LAST-MODIFIED:20250501T114654Z
UID:543-1741910400-1741910400@iskconnasik.com
SUMMARY:Gaura Purnima: Appearance of Sri Caitanya Mahaprabhu
DESCRIPTION:
URL:https://iskconnasik.com/event/gaura-purnima-appearance-of-sri-caitanya-mahaprabhu/
END:VEVENT
BEGIN:VEVENT
DTSTART;TZID=Asia/Kolkata:20250314T000000
DTEND;TZID=Asia/Kolkata:20250314T000000
DTSTAMP:20260425T183040
CREATED:20250501T114654Z
LAST-MODIFIED:20250501T114654Z
UID:544-1741910400-1741910400@iskconnasik.com
SUMMARY:(Fast today)
DESCRIPTION:
URL:https://iskconnasik.com/event/fast-today-3/
END:VEVENT
BEGIN:VEVENT
DTSTART;TZID=Asia/Kolkata:20250315T000000
DTEND;TZID=Asia/Kolkata:20250315T000000
DTSTAMP:20260425T183040
CREATED:20250501T114655Z
LAST-MODIFIED:20250501T114655Z
UID:545-1741996800-1741996800@iskconnasik.com
SUMMARY:Festival of Jagannatha Misra
DESCRIPTION:
URL:https://iskconnasik.com/event/festival-of-jagannatha-misra/
END:VEVENT
BEGIN:VEVENT
DTSTART;TZID=Asia/Kolkata:20250322T000000
DTEND;TZID=Asia/Kolkata:20250322T000000
DTSTAMP:20260425T183040
CREATED:20250501T114655Z
LAST-MODIFIED:20250501T114655Z
UID:546-1742601600-1742601600@iskconnasik.com
SUMMARY:Sri Srivasa Pandita -- Appearance
DESCRIPTION:
URL:https://iskconnasik.com/event/sri-srivasa-pandita-appearance/
END:VEVENT
BEGIN:VEVENT
DTSTART;TZID=Asia/Kolkata:20250326T000000
DTEND;TZID=Asia/Kolkata:20250326T000000
DTSTAMP:20260425T183040
CREATED:20250501T114655Z
LAST-MODIFIED:20250501T114655Z
UID:547-1742947200-1742947200@iskconnasik.com
SUMMARY:Fasting for Papamocani Ekadasi
DESCRIPTION:
URL:https://iskconnasik.com/event/fasting-for-papamocani-ekadasi/
END:VEVENT
BEGIN:VEVENT
DTSTART;TZID=Asia/Kolkata:20250326T000000
DTEND;TZID=Asia/Kolkata:20250326T000000
DTSTAMP:20260425T183040
CREATED:20250501T114709Z
LAST-MODIFIED:20250501T114709Z
UID:548-1742947200-1742947200@iskconnasik.com
SUMMARY:Sri Govinda Ghosh -- Disappearance
DESCRIPTION:
URL:https://iskconnasik.com/event/sri-govinda-ghosh-disappearance/
END:VEVENT
BEGIN:VEVENT
DTSTART;TZID=Asia/Kolkata:20250327T000000
DTEND;TZID=Asia/Kolkata:20250327T000000
DTSTAMP:20260425T183040
CREATED:20250501T114709Z
LAST-MODIFIED:20250501T114709Z
UID:549-1743033600-1743033600@iskconnasik.com
SUMMARY:Break fast 06:11 (sunrise) - 10:16 (1/3 of daylight) LT
DESCRIPTION:
URL:https://iskconnasik.com/event/break-fast-0611-sunrise-1016-1-3-of-daylight-lt/
END:VEVENT
END:VCALENDAR