BEGIN:VCALENDAR
VERSION:2.0
PRODID:-//ISKCON Nashik - ECPv6.11.2.1//NONSGML v1.0//EN
CALSCALE:GREGORIAN
METHOD:PUBLISH
X-ORIGINAL-URL:https://iskconnasik.com
X-WR-CALDESC:Events for ISKCON Nashik
REFRESH-INTERVAL;VALUE=DURATION:PT1H
X-Robots-Tag:noindex
X-PUBLISHED-TTL:PT1H
BEGIN:VTIMEZONE
TZID:Asia/Kolkata
BEGIN:STANDARD
TZOFFSETFROM:+0530
TZOFFSETTO:+0530
TZNAME:IST
DTSTART:20250101T000000
END:STANDARD
END:VTIMEZONE
BEGIN:VEVENT
DTSTART;TZID=Asia/Kolkata:20251202T000000
DTEND;TZID=Asia/Kolkata:20251202T000000
DTSTAMP:20260425T042708
CREATED:20250501T115515Z
LAST-MODIFIED:20250501T115515Z
UID:710-1764633600-1764633600@iskconnasik.com
SUMMARY:Break fast 06:34 (sunrise) - 10:13 (1/3 of daylight) LT
DESCRIPTION:
URL:https://iskconnasik.com/event/break-fast-0634-sunrise-1013-1-3-of-daylight-lt/
END:VEVENT
BEGIN:VEVENT
DTSTART;TZID=Asia/Kolkata:20251205T000000
DTEND;TZID=Asia/Kolkata:20251205T000000
DTSTAMP:20260425T042708
CREATED:20250501T115515Z
LAST-MODIFIED:20250501T115515Z
UID:711-1764892800-1764892800@iskconnasik.com
SUMMARY:Katyayani vrata ends
DESCRIPTION:
URL:https://iskconnasik.com/event/katyayani-vrata-ends/
END:VEVENT
BEGIN:VEVENT
DTSTART;TZID=Asia/Kolkata:20251208T000000
DTEND;TZID=Asia/Kolkata:20251208T000000
DTSTAMP:20260425T042708
CREATED:20250501T115515Z
LAST-MODIFIED:20250501T115515Z
UID:712-1765152000-1765152000@iskconnasik.com
SUMMARY:Srila Bhaktisiddhanta Sarasvati Thakura -- Disappearance
DESCRIPTION:
URL:https://iskconnasik.com/event/srila-bhaktisiddhanta-sarasvati-thakura-disappearance/
END:VEVENT
BEGIN:VEVENT
DTSTART;TZID=Asia/Kolkata:20251215T000000
DTEND;TZID=Asia/Kolkata:20251215T000000
DTSTAMP:20260425T042708
CREATED:20250501T115530Z
LAST-MODIFIED:20250501T115530Z
UID:713-1765756800-1765756800@iskconnasik.com
SUMMARY:Sri Devananda Pandita -- Disappearance
DESCRIPTION:
URL:https://iskconnasik.com/event/sri-devananda-pandita-disappearance/
END:VEVENT
BEGIN:VEVENT
DTSTART;TZID=Asia/Kolkata:20251216T000000
DTEND;TZID=Asia/Kolkata:20251216T000000
DTSTAMP:20260425T042708
CREATED:20250501T115530Z
LAST-MODIFIED:20250501T115530Z
UID:714-1765843200-1765843200@iskconnasik.com
SUMMARY:Paksa vardhini Mahadvadasi
DESCRIPTION:
URL:https://iskconnasik.com/event/paksa-vardhini-mahadvadasi/
END:VEVENT
BEGIN:VEVENT
DTSTART;TZID=Asia/Kolkata:20251216T000000
DTEND;TZID=Asia/Kolkata:20251216T000000
DTSTAMP:20260425T042708
CREATED:20250501T115530Z
LAST-MODIFIED:20250501T115530Z
UID:715-1765843200-1765843200@iskconnasik.com
SUMMARY:Fasting for Saphala Ekadasi
DESCRIPTION:
URL:https://iskconnasik.com/event/fasting-for-saphala-ekadasi/
END:VEVENT
BEGIN:VEVENT
DTSTART;TZID=Asia/Kolkata:20251216T000000
DTEND;TZID=Asia/Kolkata:20251216T000000
DTSTAMP:20260425T042708
CREATED:20250501T115530Z
LAST-MODIFIED:20250501T115530Z
UID:716-1765843200-1765843200@iskconnasik.com
SUMMARY:--------- Dhanus Sankranti (Sun enters Sagittarius on 16 Dec\, 04:10 LT) ---------
DESCRIPTION:
URL:https://iskconnasik.com/event/dhanus-sankranti-sun-enters-sagittarius-on-16-dec-0410-lt/
END:VEVENT
BEGIN:VEVENT
DTSTART;TZID=Asia/Kolkata:20251217T000000
DTEND;TZID=Asia/Kolkata:20251217T000000
DTSTAMP:20260425T042708
CREATED:20250501T115530Z
LAST-MODIFIED:20250501T115530Z
UID:717-1765929600-1765929600@iskconnasik.com
SUMMARY:Break fast 06:44 (sunrise) - 10:21 (1/3 of daylight) LT
DESCRIPTION:
URL:https://iskconnasik.com/event/break-fast-0644-sunrise-1021-1-3-of-daylight-lt/
END:VEVENT
BEGIN:VEVENT
DTSTART;TZID=Asia/Kolkata:20251217T000000
DTEND;TZID=Asia/Kolkata:20251217T000000
DTSTAMP:20260425T042708
CREATED:20250501T115545Z
LAST-MODIFIED:20250501T115545Z
UID:718-1765929600-1765929600@iskconnasik.com
SUMMARY:Sri Mahesa Pandita -- Disappearance
DESCRIPTION:
URL:https://iskconnasik.com/event/sri-mahesa-pandita-disappearance/
END:VEVENT
BEGIN:VEVENT
DTSTART;TZID=Asia/Kolkata:20251217T000000
DTEND;TZID=Asia/Kolkata:20251217T000000
DTSTAMP:20260425T042708
CREATED:20250501T115545Z
LAST-MODIFIED:20250501T115545Z
UID:719-1765929600-1765929600@iskconnasik.com
SUMMARY:Sri Uddharana Datta Thakura -- Disappearance
DESCRIPTION:
URL:https://iskconnasik.com/event/sri-uddharana-datta-thakura-disappearance/
END:VEVENT
BEGIN:VEVENT
DTSTART;TZID=Asia/Kolkata:20251221T000000
DTEND;TZID=Asia/Kolkata:20251221T000000
DTSTAMP:20260425T042708
CREATED:20250501T115545Z
LAST-MODIFIED:20250501T115545Z
UID:720-1766275200-1766275200@iskconnasik.com
SUMMARY:Sri Locana Dasa Thakura -- Appearance
DESCRIPTION:
URL:https://iskconnasik.com/event/sri-locana-dasa-thakura-appearance/
END:VEVENT
BEGIN:VEVENT
DTSTART;TZID=Asia/Kolkata:20251223T000000
DTEND;TZID=Asia/Kolkata:20251223T000000
DTSTAMP:20260425T042708
CREATED:20250501T115545Z
LAST-MODIFIED:20250501T115545Z
UID:721-1766448000-1766448000@iskconnasik.com
SUMMARY:Srila Jiva Gosvami -- Disappearance
DESCRIPTION:
URL:https://iskconnasik.com/event/srila-jiva-gosvami-disappearance-2/
END:VEVENT
BEGIN:VEVENT
DTSTART;TZID=Asia/Kolkata:20251223T000000
DTEND;TZID=Asia/Kolkata:20251223T000000
DTSTAMP:20260425T042708
CREATED:20250501T115545Z
LAST-MODIFIED:20250501T115545Z
UID:722-1766448000-1766448000@iskconnasik.com
SUMMARY:Sri Jagadisa Pandita -- Disappearance
DESCRIPTION:
URL:https://iskconnasik.com/event/sri-jagadisa-pandita-disappearance-2/
END:VEVENT
END:VCALENDAR